BEGIN:VCALENDAR
VERSION:2.0
PRODID:-//ChamberMaster//Event Calendar 2.0//EN
METHOD:PUBLISH
X-PUBLISHED-TTL:P3D
REFRESH-INTERVAL:P3D
CALSCALE:GREGORIAN
BEGIN:VEVENT
DTSTART:20190807T190000Z
DTEND:20190807T220000Z
X-MICROSOFT-CDO-ALLDAYEVENT:FALSE
SUMMARY:Promo Product Educational Event
DESCRIPTION:"Swag School"\n\n\n\nJoin us for networking\, food and drinks\, free samples and giveaways\, and an informative presentation from our very own Professor Promo! Subject matter experts will be on hand with hundreds of items you can touch and feel.\n\n\n\nPresentation will cover:\n\n	How to choose promotional items that fit your brand and audience best\n	When to order items to ensure they're ready well in advance of your event\n	What to do when you run into a problem or have questions about your order
X-ALT-DESC;FMTTYPE=text/html:&quot\;Swag School&quot\;<br />\n<br />\nJoin us for networking\, food and drinks\, free samples and giveaways\, and an informative presentation from our very own Professor Promo! Subject matter experts will be on hand with hundreds of items you can touch and feel.<br />\n<br />\nPresentation will cover:\n<ul>\n	<li>How to choose promotional items that fit your brand and audience best</li>\n	<li>When to order items to ensure they&#39\;re ready well in advance of your event</li>\n	<li>What to do when you run into a problem or have questions about your order</li>\n</ul>\n
LOCATION:Strategic Factory 11195 Dolfield Blvd Owings Mills\, MD 21117
UID:e.2776.8458
SEQUENCE:3
DTSTAMP:20260426T012100Z
URL:https://business.harfordchamber.org/events/details/promo-product-educational-event-8458
END:VEVENT

END:VCALENDAR
