BEGIN:VCALENDAR
VERSION:2.0
PRODID:-//ChamberMaster//Event Calendar 2.0//EN
METHOD:PUBLISH
X-PUBLISHED-TTL:P3D
REFRESH-INTERVAL:P3D
CALSCALE:GREGORIAN
BEGIN:VEVENT
DTSTART:20250614T203000Z
DTEND:20250615T020000Z
X-MICROSOFT-CDO-ALLDAYEVENT:FALSE
SUMMARY:Pup Crawl
DESCRIPTION:The Humane Society of Harford County's famous PUP CRAWL along Bel Air's Main Street is back for its 8th year\, and you're invited to join us on Saturday\, June 14\, 2025 for a spectacular night of fun to benefit animals in need! The Crawl is generously sponsored by Heather Schafer Adkins\, Your REALTOR for Life. Sponsorships available!\n\n \n\nTickets are $45 per person at www.harfordshelter.org/pupcrawl and include a drink at each pub (Das Bierhalle\, Looney's Pub\, MaGerk's Pub\, Main Street Tower & Vagabond Sandwich Company)\, a participation gift\, a super fun scavenger hunt\, and a chance to win a door prize if your pass is stamped at each pub. $10 Tag-Along tickets are for designated drivers and those who prefer unlimited water/sodas.
X-ALT-DESC;FMTTYPE=text/html:The Humane Society of Harford County&rsquo\;s famous <strong>PUP CRAWL</strong> along Bel Air&rsquo\;s Main Street is back for its 8th year\, and you&rsquo\;re invited to join us on Saturday\, June 14\, 2025 for a spectacular night of fun to benefit animals in need! The Crawl is generously sponsored by <a href="http://www.heatheradkins.com/" target="_blank">Heather Schafer Adkins\, Your REALTOR for Life</a>. Sponsorships available!<br />\n&nbsp\;<br />\nTickets are $45 per person at <a href="http://www.harfordshelter.org/pupcrawl">www.harfordshelter.org/pupcrawl</a> and include a drink at each pub (<a href="https://www.facebook.com/profile.php?id=100089253872165" target="_blank">Das Bierhalle</a>\, <a href="https://www.looneyspubmd.com/bel-air">Looney&#39\;s Pub</a>\, <a href="http://www.magerkspub.com/bel-air" target="_blank">MaGerk&rsquo\;s Pub</a>\, <a href="https://www.mainstreettower.com/" target="_blank">Main Street Tower</a> &amp\; <a href="https://vagabondsandwichcompany.com/" target="_blank">Vagabond Sandwich Company</a>)\, a participation gift\, a super fun scavenger hunt\, and a chance to win a door prize if your pass is stamped at each pub. $10 Tag-Along tickets are for designated drivers and those who prefer unlimited water/sodas.
LOCATION:Looney's Pub\, 312 S Main Street\, Bel Air\, MD 21014
UID:e.2776.15700
SEQUENCE:3
DTSTAMP:20260421T165724Z
URL:https://business.harfordchamber.org/events/details/pup-crawl-06-14-2025-15700
END:VEVENT

END:VCALENDAR
