BEGIN:VCALENDAR
VERSION:2.0
PRODID:-//ChamberMaster//Event Calendar 2.0//EN
METHOD:PUBLISH
X-PUBLISHED-TTL:P3D
REFRESH-INTERVAL:P3D
CALSCALE:GREGORIAN
BEGIN:VEVENT
DTSTART:20191024T220000Z
DTEND:20191025T000000Z
X-MICROSOFT-CDO-ALLDAYEVENT:FALSE
SUMMARY:Rally Against Parkinson's Trivia Night at Lorien Bel Air!
DESCRIPTION:We will have fun-filled prize baskets\, door prizes\, hors d'oeuves & refreshments and ALL proceeds will benefit the Rally Against Parkinson's!\n\nYou can get involved by creating your own team (minimum of 4 requirement)\, purchasing raffle tickets the evening of the event or your company can help by donating a basket to raffle off the evening of our event!
X-ALT-DESC;FMTTYPE=text/html:We will have fun-filled prize baskets\, door prizes\, hors d&#39\;oeuves &amp\; refreshments and ALL proceeds will benefit the Rally Against Parkinson&#39\;s!<br />\nYou can get involved by creating your own team (minimum of 4 requirement)\, purchasing raffle tickets the evening of the event or your company can help by donating a basket to raffle off the evening of our event!
LOCATION:Lorien Bel Air 1909 Emmorton Rd. Bel Air\, MD 21015
UID:e.2776.8551
SEQUENCE:3
DTSTAMP:20260425T000937Z
URL:https://business.harfordchamber.org/events/details/rally-against-parkinson-s-trivia-night-at-lorien-bel-air-8551
END:VEVENT

END:VCALENDAR
