BEGIN:VCALENDAR
VERSION:2.0
PRODID:-//ChamberMaster//Event Calendar 2.0//EN
METHOD:PUBLISH
X-PUBLISHED-TTL:P3D
REFRESH-INTERVAL:P3D
CALSCALE:GREGORIAN
BEGIN:VEVENT
DTSTART:20210806T160000Z
DTEND:20210806T170000Z
X-MICROSOFT-CDO-ALLDAYEVENT:FALSE
SUMMARY:Ribbon Cutting: FASTSIGNS~ White Marsh & Joppa Grand Opening
DESCRIPTION:FASTSIGNS~ White Marsh & Joppa is officially celebrating their Grand Opening! Originally having opened back in August of 2020\, owners Angi and Bobby Jordan were unable to host a proper Grand Opening celebration. One year later\, having persevered through the pandemic\, they are officially celebrating their growth and grand opening!
X-ALT-DESC;FMTTYPE=text/html:<strong>FASTSIGNS~ White Marsh &amp\; Joppa</strong> is officially celebrating their Grand Opening! Originally having opened back in August of 2020\, owners Angi and Bobby Jordan were unable to host a proper Grand Opening celebration. One year later\, having persevered through the pandemic\, they are officially celebrating their growth and grand opening!&nbsp\;
LOCATION:413 Pulaski Highway Joppa\, MD 21085 Suite 105
UID:e.2776.12430
SEQUENCE:3
DTSTAMP:20260424T074701Z
URL:https://business.harfordchamber.org/events/details/ribbon-cutting-fastsigns-white-marsh-joppa-grand-opening-12430
END:VEVENT

END:VCALENDAR
