BEGIN:VCALENDAR
VERSION:2.0
PRODID:-//ChamberMaster//Event Calendar 2.0//EN
METHOD:PUBLISH
X-PUBLISHED-TTL:P3D
REFRESH-INTERVAL:P3D
CALSCALE:GREGORIAN
BEGIN:VEVENT
DTSTART:20190613T220000Z
DTEND:20190613T230000Z
X-MICROSOFT-CDO-ALLDAYEVENT:FALSE
SUMMARY:"Safety Chat" on Elder Theft & Scams
DESCRIPTION:CPL Josh Kres from the Maryland State Police will be speaking on the topic of "Elder Theft & Scams." He will review all the "trigger words" to look out for and how to best combat scammers it if you or your loved one find yourselves in this situation.
X-ALT-DESC;FMTTYPE=text/html:<p>CPL Josh Kres from the Maryland State Police will be speaking on the topic of &ldquo\;Elder Theft &amp\; Scams.&rdquo\; He will review all the &ldquo\;trigger words&rdquo\; to look out for and how to best combat scammers it if you or your loved one find yourselves in this situation.</p>\n
LOCATION:Lorien Bel Air 1909 Emmorton Rd. Bel Air\, MD 21015
UID:e.2776.8404
SEQUENCE:3
DTSTAMP:20260426T043728Z
URL:https://business.harfordchamber.org/events/details/safety-chat-on-elder-theft-scams-8404
END:VEVENT

END:VCALENDAR
