BEGIN:VCALENDAR
VERSION:2.0
PRODID:-//ChamberMaster//Event Calendar 2.0//EN
METHOD:PUBLISH
X-PUBLISHED-TTL:P3D
REFRESH-INTERVAL:P3D
CALSCALE:GREGORIAN
BEGIN:VEVENT
DTSTART:20191023T223000Z
DTEND:20191024T000000Z
X-MICROSOFT-CDO-ALLDAYEVENT:FALSE
SUMMARY:Salt Tea Talks
DESCRIPTION:Join us in the salt room for one our Fall Harvesting Harmony Series Salt Tea Talk. Shedding & Clearing: In this session\, we will talk about ways to let go of what no longer serves us so that we can create space for the new energies and experiences we want to attract and create. As the salt cleanses our skin and sinuses\, we will explore ways to cleanse our lives and routines and prepare our ground for a harvest of REAL wellness. $35
X-ALT-DESC;FMTTYPE=text/html:Join us in the salt room for one our Fall Harvesting Harmony Series Salt Tea Talk. Shedding &amp\; Clearing: In this session\, we will talk about ways to let go of what no longer serves us so that we can create space for the new energies and experiences we want to attract and create. As the salt cleanses our skin and sinuses\, we will explore ways to cleanse our lives and routines and prepare our ground for a harvest of REAL wellness. $35
LOCATION:Salt Works Spa 201 Gateway Drive Suite J Bel Air 21014
UID:e.2776.8555
SEQUENCE:3
DTSTAMP:20260425T000655Z
URL:https://business.harfordchamber.org/events/details/salt-tea-talks-10-23-2019-8555
END:VEVENT

END:VCALENDAR
