BEGIN:VCALENDAR
VERSION:2.0
PRODID:-//ChamberMaster//Event Calendar 2.0//EN
METHOD:PUBLISH
X-PUBLISHED-TTL:P3D
REFRESH-INTERVAL:P3D
CALSCALE:GREGORIAN
BEGIN:VEVENT
DTSTART:20191101T230000Z
DTEND:20191102T010000Z
X-MICROSOFT-CDO-ALLDAYEVENT:FALSE
SUMMARY:Screech’s Night Owl 5K
DESCRIPTION:Join us for a 5K glow run in support of Harford Community College student athlete scholarships. Participants will enjoy a brand new course through the HCC campus and athletic facilities. Refreshments\, wearable glow items\, and a premium long-sleeve race t-shirt (must register by October 14 to guarantee a shirt) will be provided to each runner. Medals will be awarded to the top male and female overall and top three male and female in each age category. Entry fees are $30 in advance (pre-registration by October 28) or $35. The event is presented by APG Federal Credit Union. To register: www.harford.edu/screech
X-ALT-DESC;FMTTYPE=text/html:Join us for a 5K glow run in support of Harford Community College student athlete scholarships. Participants will enjoy a brand new course through the HCC campus and athletic facilities. Refreshments\, wearable glow items\, and a premium long-sleeve race t-shirt (must register by October 14 to guarantee a shirt) will be provided to each runner. Medals will be awarded to the top male and female overall and top three male and female in each age category. Entry fees are $30 in advance (pre-registration by October 28) or $35. The event is presented by APG Federal Credit Union. To register: www.harford.edu/screech
LOCATION:APGFCU Arena at Harford Community College
UID:e.2776.8559
SEQUENCE:3
DTSTAMP:20260424T221047Z
URL:https://business.harfordchamber.org/events/details/screech-s-night-owl-5k-11-01-2019-8559
END:VEVENT

END:VCALENDAR
