BEGIN:VCALENDAR
VERSION:2.0
PRODID:-//ChamberMaster//Event Calendar 2.0//EN
METHOD:PUBLISH
X-PUBLISHED-TTL:P3D
REFRESH-INTERVAL:P3D
CALSCALE:GREGORIAN
BEGIN:VEVENT
DTSTART:20191101T230000Z
DTEND:20191102T003000Z
X-MICROSOFT-CDO-ALLDAYEVENT:FALSE
SUMMARY:Screech's Night Owl 5K
DESCRIPTION:On your mark\, get set\, glow! Join the Harford Community College Foundation for a 5K glow run in support of HCC student athlete scholarships. Presented by APG Federal Credit Union.\n\nYour race registration or sponsorship provides the support our scholar athletes need to continue to excel and achieve academically and athletically. Be a fan: Fund Our Fighting Owls!\n\nWhat's Included\n\nParticipants will enjoy a brand new course through our campus and athletic facilities. Refreshments\, wearable glow items\, and a premium long-sleeve race t-shirt provided to each runner. Must register by October 14 to guarantee a shirt. Medals awarded to the top male and female overall and top three male and female in each age category. \n\nStart your Friday night off right! Bring your race bib in to Naughty Dogs and use to redeem a BOGO special! Participant's choice: buy a draft beer and get one free OR get a free appetizer with purchase of any salad\, sandwich\, entree or appetizer of equal or lesser value. Offer only valid 11/1/19.
X-ALT-DESC;FMTTYPE=text/html:<p>On your mark\, get set\, glow! Join the Harford Community College Foundation for a 5K glow run in support of HCC student athlete scholarships. Presented by APG Federal Credit Union.</p>\n\n<p>Your race registration or sponsorship provides the support our scholar athletes need to continue to excel and achieve academically and athletically. Be a fan: Fund Our Fighting Owls!</p>\n\n<p><strong>What&#39\;s Included</strong></p>\n\n<p>Participants will enjoy a brand new course through our campus and athletic facilities. Refreshments\, wearable glow items\, and a premium long-sleeve race t-shirt provided to each runner. Must register by October 14 to guarantee a shirt. Medals awarded to the top male and female overall and top three male and female in each age category.&nbsp\;</p>\n\n<p>Start your Friday night off right! Bring your race bib in to Naughty Dogs and use to redeem a BOGO special! Participant&rsquo\;s choice: buy a draft beer and get one free OR get a free appetizer with purchase of any salad\, sandwich\, entree or appetizer of equal or lesser value. Offer only valid 11/1/19.</p>\n
LOCATION:APG Federal Credit Union Arena Harford Community College 401 Thomas Run Road Bel Air\, MD 21015
UID:e.2776.8556
SEQUENCE:3
DTSTAMP:20260424T220930Z
URL:https://business.harfordchamber.org/events/details/screech-s-night-owl-5k-8556
END:VEVENT

END:VCALENDAR
