BEGIN:VCALENDAR
VERSION:2.0
PRODID:-//ChamberMaster//Event Calendar 2.0//EN
METHOD:PUBLISH
X-PUBLISHED-TTL:P3D
REFRESH-INTERVAL:P3D
CALSCALE:GREGORIAN
BEGIN:VEVENT
DTSTART:20200217T130000Z
DTEND:20200219T220000Z
X-MICROSOFT-CDO-ALLDAYEVENT:FALSE
SUMMARY:Silent Auction - Buy It Now!
DESCRIPTION:Welcome to the 2020 Annual Dinner Silent Auction - Buy It Now! \n\n\n\nTake advantage of this opportunity to buy it before it goes to auction! If you see something you HAVE to have\, make sure to check out the Buy It Now price list!
X-ALT-DESC;FMTTYPE=text/html:Welcome to the 2020 Annual Dinner Silent Auction - Buy It Now!&nbsp\;<br />\n<br />\nT<span style="color: rgb(51\, 51\, 51)\; font-family: sans-serif\, Arial\, Verdana\, &quot\;Trebuchet MS&quot\;\; font-size: 13px\; background-color: rgb(255\, 255\, 255)\;">ake advantage of this&nbsp\;</span><span style="color: rgb(51\, 51\, 51)\; font-family: sans-serif\, Arial\, Verdana\, &quot\;Trebuchet MS&quot\;\; font-size: 13px\; background-color: rgb(255\, 255\, 255)\;">opportunity</span><span style="color: rgb(51\, 51\, 51)\; font-family: sans-serif\, Arial\, Verdana\, &quot\;Trebuchet MS&quot\;\; font-size: 13px\; background-color: rgb(255\, 255\, 255)\;">&nbsp\;to buy it before it goes to auction! If you see something you HAVE to have\, make sure to check out the Buy It Now price list!&nbsp\;</span>
LOCATION:Online Sale- Any items not purchased through the Buy It Now Sale will be available for bidding on Thursday\, February 20th at the A.C.E.S. for the WIN Annual Dinner event!
UID:e.2776.11709
SEQUENCE:3
DTSTAMP:20260424T214515Z
URL:https://business.harfordchamber.org/events/details/silent-auction-buy-it-now-11709
END:VEVENT

END:VCALENDAR
