BEGIN:VCALENDAR
VERSION:2.0
PRODID:-//ChamberMaster//Event Calendar 2.0//EN
METHOD:PUBLISH
X-PUBLISHED-TTL:P3D
REFRESH-INTERVAL:P3D
CALSCALE:GREGORIAN
BEGIN:VEVENT
DTSTART:20260618T210000Z
DTEND:20260618T233000Z
X-MICROSOFT-CDO-ALLDAYEVENT:FALSE
SUMMARY:Small Business Development & Consumer Networking Event
DESCRIPTION:Are you a passionate business owner?\n\nDo you currently own your home or are you looking to purchase or refinance your home?\n\n \n\nSECU MD is looking to help connect you with resources to discuss financing\, workforce challenges\, life-cycle stages and onboarding incentive opportunities. We are invested in helping you to reshape and reimage your financial wellness and future.\n\n \n\nWhether you are a Consumer or a Small business owner\, networking events are an excellent opportunity to connect\, share ideas and grow/promote your brand. Don't miss this opportunity to expand your network.\n\n \n\nEnjoy a fare of refreshments and beverages as we connect you with fellow Members and business partners.
X-ALT-DESC;FMTTYPE=text/html:<div>Are you a passionate business owner?</div>\n\n<div>Do you currently own your home or are you looking to purchase or refinance your home?</div>\n\n<div>&nbsp\;</div>\n\n<div>SECU MD is looking to help connect you with resources to discuss financing\, workforce challenges\, life-cycle stages and onboarding incentive opportunities. We are invested in helping you to reshape and reimage your financial wellness and future.</div>\n\n<div>&nbsp\;</div>\n\n<div>Whether you are a Consumer or a Small business owner\, networking events are an excellent opportunity to connect\, share ideas and grow/promote your brand. Don&#39\;t miss this opportunity to expand your network.</div>\n\n<div>&nbsp\;</div>\n\n<div>Enjoy a fare of refreshments and beverages as we connect you with fellow Members and business partners.</div>\n
LOCATION:210 Plumtree Rd\, Bel Air\, MD 21015
UID:e.2776.16237
SEQUENCE:3
DTSTAMP:20260422T151336Z
URL:https://business.harfordchamber.org/events/details/small-business-development-consumer-networking-event-16237
END:VEVENT

END:VCALENDAR
