BEGIN:VCALENDAR
VERSION:2.0
PRODID:-//ChamberMaster//Event Calendar 2.0//EN
METHOD:PUBLISH
X-PUBLISHED-TTL:P3D
REFRESH-INTERVAL:P3D
CALSCALE:GREGORIAN
BEGIN:VEVENT
DTSTART:20191130T183000Z
DTEND:20191130T220000Z
X-MICROSOFT-CDO-ALLDAYEVENT:FALSE
SUMMARY:Small Business Saturday Shopping at Orangetheory Fitness Bel Air
DESCRIPTION:We are hosting a Small Business Saturday event for our members to showcase their services and products. Bring your friends\, family\, neighbors and coworkers to shop local\, support small businesses\, and enjoy light refreshments
X-ALT-DESC;FMTTYPE=text/html:<span style="color:rgb(29\, 33\, 41)\; font-family:helvetica\,sans-serif\; font-size:10.5pt">We are hosting a Small Business Saturday event for our members to showcase their services and products. Bring your friends\, family\, neighbors and coworkers to shop local\, support small businesses\, and enjoy light refreshments</span>
LOCATION:Orangetheory Fitness Bel Air 331 Baltimore Pike\, Suite 2 Bel Air\, MD 21014
UID:e.2776.10605
SEQUENCE:3
DTSTAMP:20260424T221305Z
URL:https://business.harfordchamber.org/events/details/small-business-saturday-shopping-at-orangetheory-fitness-bel-air-10605
END:VEVENT

END:VCALENDAR
