BEGIN:VCALENDAR
VERSION:2.0
PRODID:-//ChamberMaster//Event Calendar 2.0//EN
METHOD:PUBLISH
X-PUBLISHED-TTL:P3D
REFRESH-INTERVAL:P3D
CALSCALE:GREGORIAN
BEGIN:VEVENT
DTSTART:20190828T200000Z
DTEND:20190828T230000Z
X-MICROSOFT-CDO-ALLDAYEVENT:FALSE
SUMMARY:Sneak Peak of McComas Life Celebration Center
DESCRIPTION:Join McComas Family Funeral Homes for a sneak peak of their new McComas Life Celebration Center on Wednesday\, August 28\, 2019 from 4-7PM. The event is open to the public and will include tours\, information\, and food.
X-ALT-DESC;FMTTYPE=text/html:Join McComas Family Funeral Homes for a sneak peak of their new McComas Life Celebration Center on Wednesday\, August 28\, 2019 from 4-7PM. The event is open to the public and will include tours\, information\, and food.
LOCATION:McComas Life Celebration Center 1114 Baldwin Mill Road Jarrettsville\, MD 21084
UID:e.2776.8498
SEQUENCE:3
DTSTAMP:20260426T012317Z
URL:https://business.harfordchamber.org/events/details/sneak-peak-of-mccomas-life-celebration-center-8498
END:VEVENT

END:VCALENDAR
