BEGIN:VCALENDAR
VERSION:2.0
PRODID:-//ChamberMaster//Event Calendar 2.0//EN
METHOD:PUBLISH
X-PUBLISHED-TTL:P3D
REFRESH-INTERVAL:P3D
CALSCALE:GREGORIAN
BEGIN:VEVENT
DTSTART:20251022T213000Z
DTEND:20251022T223000Z
X-MICROSOFT-CDO-ALLDAYEVENT:FALSE
SUMMARY:So You Want to be a SFX Artist?
DESCRIPTION:Harford County Public Library hosts So You Want to be a SFX Artist? on October 22 from 5:30 to 6:30 p.m. at the Fallston Library\, 1461 Fallston Road. Up your Halloween game by learning the fundamentals of special effects makeup. Materials will be provided. Each person participating (grade 9 and up) must register prior to the program at https://programs.hcplonline.org/event/14053623. The event is supported by the Fallston Friends of HCPL.
X-ALT-DESC;FMTTYPE=text/html:<span style="font-family:times new roman\,serif"><span style="font-size:14.0pt">Harford County Public Library hosts So You Want to be a SFX Artist? on October 22 from 5:30 to 6:30 p.m. at the Fallston Library\, 1461 Fallston Road. Up your Halloween game by learning the fundamentals of special effects makeup. Materials will be provided. Each person participating (grade 9 and up) must register prior to the program at </span></span><a href="https://programs.hcplonline.org/event/14053623"><span style="font-family:times new roman\,serif"><span style="font-size:14.0pt">https://programs.hcplonline.org/event/14053623</span></span></a><span style="font-family:times new roman\,serif"><span style="font-size:14.0pt">. The event is supported by the Fallston Friends of HCPL.</span></span><br />\n&nbsp\;
LOCATION:Fallston Library 1461 Fallston Road Fallston
UID:e.2776.16089
SEQUENCE:3
DTSTAMP:20260423T094535Z
URL:https://business.harfordchamber.org/events/details/so-you-want-to-be-a-sfx-artist-16089
END:VEVENT

END:VCALENDAR
