BEGIN:VCALENDAR
VERSION:2.0
PRODID:-//ChamberMaster//Event Calendar 2.0//EN
METHOD:PUBLISH
X-PUBLISHED-TTL:P3D
REFRESH-INTERVAL:P3D
CALSCALE:GREGORIAN
BEGIN:VEVENT
DTSTART:20191001T123000Z
DTEND:20191031T210000Z
X-MICROSOFT-CDO-ALLDAYEVENT:FALSE
SUMMARY:SOCKTOBER AT JANNEY
DESCRIPTION:DID YOU KNOW?  There are 600\,000 people without a home on any given night in the United States.  For the entire month of OCTOBER\, we will be collecting NEW socks for the homeless.  A donation box  will be available in our Bel Air office Lobby.  116 Hays St.  Bel Air\, MD  21014  LET'S WORK TOGETHER! Thank you in advance for giving back to the community.
X-ALT-DESC;FMTTYPE=text/html:<strong>DID YOU KNOW?</strong>&nbsp\; There are 600\,000 people without a home on any given night in the United States.&nbsp\; For the entire month of <strong>OCTOBER\,</strong> we will be collecting <strong>NEW</strong> socks for the homeless.&nbsp\; A donation box&nbsp\; will be available in our Bel Air office Lobby.&nbsp\; 116 Hays St.&nbsp\; Bel Air\, MD&nbsp\; 21014&nbsp\;<strong> LET&#39\;S WORK TOGETHER! </strong>Thank you in advance for giving back to the community.&nbsp\;
LOCATION:Janney Montgomery Scott Bel Air Office 116 Hays Street Bel Air\, MD 21014 http://advisor.janney.com/WinnerPaulinyWealthManagement/
UID:e.2776.8557
SEQUENCE:3
DTSTAMP:20260425T000533Z
URL:https://business.harfordchamber.org/events/details/socktober-at-janney-8557
END:VEVENT

END:VCALENDAR
