BEGIN:VCALENDAR
VERSION:2.0
PRODID:-//ChamberMaster//Event Calendar 2.0//EN
METHOD:PUBLISH
X-PUBLISHED-TTL:P3D
REFRESH-INTERVAL:P3D
CALSCALE:GREGORIAN
BEGIN:VEVENT
DTSTART:20190709T213000Z
DTEND:20190709T230000Z
X-MICROSOFT-CDO-ALLDAYEVENT:FALSE
SUMMARY:Solutions in Retirement Planning - Hosted by Ms. Jaimie Corcoran\, MBA\, Financial Planner
DESCRIPTION:Attend a non obligation\, interactive education seminar.  Reservations are required as seating is limited.  Refreshments will be served.
X-ALT-DESC;FMTTYPE=text/html:Attend a non obligation\, interactive education seminar.&nbsp\; Reservations are required as seating is limited.&nbsp\; Refreshments will be served.
LOCATION:260 Gateway Drive - Suite 3-4B - Bel Air\, MD 21014
UID:e.2776.8425
SEQUENCE:3
DTSTAMP:20260426T031742Z
URL:https://business.harfordchamber.org/events/details/solutions-in-retirement-planning-hosted-by-ms-jaimie-corcoran-mba-financial-planner-8425
END:VEVENT

END:VCALENDAR
