BEGIN:VCALENDAR
VERSION:2.0
PRODID:-//ChamberMaster//Event Calendar 2.0//EN
METHOD:PUBLISH
X-PUBLISHED-TTL:P3D
REFRESH-INTERVAL:P3D
CALSCALE:GREGORIAN
BEGIN:VEVENT
DTSTART:20191107T110000Z
DTEND:20191107T230000Z
X-MICROSOFT-CDO-ALLDAYEVENT:FALSE
SUMMARY:Spirit of Thanks Tour
DESCRIPTION:Help us continue the tradition of bringing together our military men and women with community leaders for a day of remembrance\, education\, and camaraderie in NYC. The trip and tour will include breakfast\, a guided tour of the 9/11 Museum\, lunch in NYC\, and charter bus transportation to and from. \n\n\n\nThe Harford County Chamber's Military Affairs Committee is looking for sponsors for this event. If you are interested in sponsoring please check out the sponsorship options available!
X-ALT-DESC;FMTTYPE=text/html:Help us continue the tradition of bringing together our military men and women with community leaders for a day of remembrance\, education\, and camaraderie in NYC. The trip and tour will include breakfast\, a guided tour of the 9/11 Museum\, lunch in NYC\, and charter bus transportation to and from.&nbsp\;<br />\n<br />\nThe Harford County Chamber&#39\;s Military Affairs Committee is looking for sponsors for this event. If you are interested in sponsoring please check out the sponsorship options available!&nbsp\;<br />\n<br />\n&nbsp\;
LOCATION:Depart from Ruggles Golf Course parking lot
UID:e.2776.8446
SEQUENCE:3
DTSTAMP:20260424T221054Z
URL:https://business.harfordchamber.org/events/details/spirit-of-thanks-tour-8446
END:VEVENT

END:VCALENDAR
