BEGIN:VCALENDAR
VERSION:2.0
PRODID:-//ChamberMaster//Event Calendar 2.0//EN
METHOD:PUBLISH
X-PUBLISHED-TTL:P3D
REFRESH-INTERVAL:P3D
CALSCALE:GREGORIAN
BEGIN:VEVENT
DTSTART:20191113T220000Z
DTEND:20191114T010000Z
X-MICROSOFT-CDO-ALLDAYEVENT:FALSE
SUMMARY:Sprout Film & Art Festival
DESCRIPTION:Hosted by The Arc Northern Chesapeake Region\, Sprout highlights the many artistical talents of people with and without differing abilities. Guests to enjoy light refreshments\, an art gallery that includes work from professionals and aspiring artists\, performances\, and films from the renowned NYC company\, Sprout. Cash bar.
X-ALT-DESC;FMTTYPE=text/html:Hosted by The Arc Northern Chesapeake Region\, Sprout highlights the many artistical talents of people with and without differing abilities. Guests to enjoy light refreshments\, an art gallery that includes work from professionals and aspiring artists\, performances\, and films from the renowned NYC company\, Sprout. Cash bar.
LOCATION:Water's Edge Events Center 4687 Millennium Drive\, Belcamp\, MD 21017
UID:e.2776.8500
SEQUENCE:3
DTSTAMP:20260424T221245Z
URL:https://business.harfordchamber.org/events/details/sprout-film-art-festival-11-13-2019-8500
END:VEVENT

END:VCALENDAR
