BEGIN:VCALENDAR
VERSION:2.0
PRODID:-//ChamberMaster//Event Calendar 2.0//EN
METHOD:PUBLISH
X-PUBLISHED-TTL:P3D
REFRESH-INTERVAL:P3D
CALSCALE:GREGORIAN
BEGIN:VEVENT
DTSTART:20200116T160000Z
DTEND:20200116T180000Z
X-MICROSOFT-CDO-ALLDAYEVENT:FALSE
SUMMARY:State of the County
DESCRIPTION:Join us at Water's Edge Event Center for our State of the County luncheon\, where Harford County Executive Barry Glassman will recap the year and informs us about his plans for the upcoming year.
X-ALT-DESC;FMTTYPE=text/html:Join us at Water&#39\;s Edge Event Center for our State of the County luncheon\, where Harford County Executive Barry Glassman will recap the year and informs us about his plans for the upcoming year.
LOCATION:Water's Edge Events Center 4687 Millennium Drive Belcamp\, MD 21017
UID:e.2776.8451
SEQUENCE:3
DTSTAMP:20260424T235503Z
URL:https://business.harfordchamber.org/events/details/state-of-the-county-8451
END:VEVENT

END:VCALENDAR
