BEGIN:VCALENDAR
VERSION:2.0
PRODID:-//ChamberMaster//Event Calendar 2.0//EN
METHOD:PUBLISH
X-PUBLISHED-TTL:P3D
REFRESH-INTERVAL:P3D
CALSCALE:GREGORIAN
BEGIN:VEVENT
DTSTART:20251024T140000Z
DTEND:20251024T153000Z
X-MICROSOFT-CDO-ALLDAYEVENT:FALSE
SUMMARY:STEM Fun Friday
DESCRIPTION:Harford County Public Library hosts STEM Fun Friday on October 24 from 10 to 11:30 a.m. at the Havre de Grace Library\, 120 North Union Avenue. Stop in for a fun-filled open play session to explore Sphero Indi Coding Cars and OSMO digital games. The program is geared for children in pre-K through grade 2. For more information\, visit https://programs.hcplonline.org/event/13947556.
X-ALT-DESC;FMTTYPE=text/html:<span style="font-family:arial\,sans-serif">Harford County Public Library hosts STEM Fun Friday on October 24 from 10 to 11:30 a.m. at the Havre de Grace Library\, 120 North Union Avenue. Stop in for a fun-filled open play session to explore Sphero Indi Coding Cars and OSMO digital games. The program is geared for children in pre-K through grade 2. For more information\, visit </span><a href="https://programs.hcplonline.org/event/13947556"><span style="font-family:arial\,sans-serif">https://programs.hcplonline.org/event/13947556</span></a><span style="font-family:arial\,sans-serif">. </span><br />\n&nbsp\;
LOCATION:Havre de Grace Library 120 North Union Avenue Havre de Grace
UID:e.2776.16104
SEQUENCE:3
DTSTAMP:20260423T090911Z
URL:https://business.harfordchamber.org/events/details/stem-fun-friday-16104
END:VEVENT

END:VCALENDAR
