BEGIN:VCALENDAR
VERSION:2.0
PRODID:-//ChamberMaster//Event Calendar 2.0//EN
METHOD:PUBLISH
X-PUBLISHED-TTL:P3D
REFRESH-INTERVAL:P3D
CALSCALE:GREGORIAN
BEGIN:VEVENT
DTSTART:20250829T230000Z
DTEND:20250830T003000Z
X-MICROSOFT-CDO-ALLDAYEVENT:FALSE
SUMMARY:Sunsets on the Boulevard Summer Concerts Series
DESCRIPTION:Make the most of summer with a night of music by The 1974 on Friday\, 8/29 from 7 8:30 PM. Sunsets on the Boulevard takes place at the Boulevard at Box Hill next to BACCO bring your friends\, family\, and a chair for this fun\, free concert under the sky!
X-ALT-DESC;FMTTYPE=text/html:<span style="color:rgb(0\, 4\, 38)\; font-family:system-ui\,-apple-system\,system-ui\,segoe ui\,roboto\,helvetica neue\,arial\,noto sans\,sans-serif\,apple color emoji\,segoe ui emoji\,segoe ui symbol\,noto color emoji\; font-size:16px">Make the most of summer with a night of music by The 1974 on Friday\, 8/29 from 7&ndash\;8:30 PM.&nbsp\;</span><em>Sunsets on the Boulevard</em><span style="color:rgb(0\, 4\, 38)\; font-family:system-ui\,-apple-system\,system-ui\,segoe ui\,roboto\,helvetica neue\,arial\,noto sans\,sans-serif\,apple color emoji\,segoe ui emoji\,segoe ui symbol\,noto color emoji\; font-size:16px">&nbsp\;takes place at the Boulevard at Box Hill next to BACCO&mdash\;bring your friends\, family\, and a chair for this fun\, free concert under the sky!</span>
LOCATION:Boulevard at Box Hill next to BACCO Italian & Wine Bar
UID:e.2776.16042
SEQUENCE:3
DTSTAMP:20260421T131038Z
URL:https://business.harfordchamber.org/events/details/sunsets-on-the-boulevard-summer-concerts-series-16042
END:VEVENT

END:VCALENDAR
