BEGIN:VCALENDAR
VERSION:2.0
PRODID:-//ChamberMaster//Event Calendar 2.0//EN
METHOD:PUBLISH
X-PUBLISHED-TTL:P3D
REFRESH-INTERVAL:P3D
CALSCALE:GREGORIAN
BEGIN:VEVENT
DTSTART:20191010T160000Z
DTEND:20191010T200000Z
X-MICROSOFT-CDO-ALLDAYEVENT:FALSE
SUMMARY:Susquehanna Workforce Network's 31st Annual Harford County Job Fair on October 10th
DESCRIPTION:Registration is open for SWN's 31st Annual Harford County Job Fair. The event will be held on Thursday\, October 10th at Ripken Stadium in Aberdeen. You can register online by going to www.SWNetwork.org and the cost for the booth once again is $225.00.
X-ALT-DESC;FMTTYPE=text/html:Registration is open for SWN&#39\;s 31st Annual Harford County Job Fair. The event will be held on Thursday\, October 10th at Ripken Stadium in Aberdeen. You can register online by going to www.SWNetwork.org and the cost for the booth once again is $225.00.
LOCATION:Ripken Stadium 873 Long Drive Aberdeen\, MD 21001
UID:e.2776.8508
SEQUENCE:3
DTSTAMP:20260425T000900Z
URL:https://business.harfordchamber.org/events/details/susquehanna-workforce-network-s-31st-annual-harford-county-job-fair-on-october-10th-8508
END:VEVENT

END:VCALENDAR
