BEGIN:VCALENDAR
VERSION:2.0
PRODID:-//ChamberMaster//Event Calendar 2.0//EN
METHOD:PUBLISH
X-PUBLISHED-TTL:P3D
REFRESH-INTERVAL:P3D
CALSCALE:GREGORIAN
BEGIN:VEVENT
DTSTART:20210817T140000Z
DTEND:20210817T160000Z
X-MICROSOFT-CDO-ALLDAYEVENT:FALSE
SUMMARY:Susquehanna Workforce Network's Virtual Job Fair
DESCRIPTION:Susquehanna Workforce Network (SWN ) is hosting a Virtual Job Fair on August 17\, 2021 from 10:00 AM until Noon. There is no charge for a booth\, and employers recruiting for open positions can register via Premier Virtual at https://www.swnetwork.org/job-fair/\n\n\n\nContact Terri Kearney at 410-939-4240 or tkearney@swnetwork.org with questions.
X-ALT-DESC;FMTTYPE=text/html:Susquehanna Workforce Network (SWN ) is hosting a Virtual Job Fair on August 17\, 2021 from 10:00 AM until Noon. There is no charge for a booth\, and employers recruiting for open positions can register via Premier Virtual at&nbsp\;<a href="https://www.swnetwork.org/job-fair/"><span style="font-family:times new roman\,serif"><span style="font-size:12.0pt">https://www.swnetwork.org/job-fair/</span></span></a><br />\n<br />\nContact Terri Kearney at 410-939-4240 or tkearney@swnetwork.org with questions.
LOCATION:Virtual Event
UID:e.2776.12457
SEQUENCE:3
DTSTAMP:20260424T061356Z
URL:https://business.harfordchamber.org/events/details/susquehanna-workforce-network-s-virtual-job-fair-12457
END:VEVENT

END:VCALENDAR
