BEGIN:VCALENDAR
VERSION:2.0
PRODID:-//ChamberMaster//Event Calendar 2.0//EN
METHOD:PUBLISH
X-PUBLISHED-TTL:P3D
REFRESH-INTERVAL:P3D
CALSCALE:GREGORIAN
BEGIN:VEVENT
DTSTART:20210817T140000Z
DTEND:20210817T160000Z
X-MICROSOFT-CDO-ALLDAYEVENT:FALSE
SUMMARY:Susquehanna Workforce Network Virtual Job Fair - August 17\, 2021
DESCRIPTION:Susquehanna Workforce Network's Virtual Job Fair!\n\nAugust 17\, 2021\, 10 a.m.   Noon\n\n \n\n\n\nOrganization Registration https://pvapi.premiervirtual.com/s/wxbw4W\n\nJobseeker Registration https://swnjobseeker.com/hireme\n\n \n\n\n\nNeed some guidance?\n\nVIDEO: How to Register for the Event: https://www.youtube.com/watch?v=IfLYk8ffgaE
X-ALT-DESC;FMTTYPE=text/html:<div>\n<div>\n<div>\n<div>\n<div>\n<div>\n<div><span style="color:#FF0000"><strong><span dir="auto" style="font-family:inherit\; font-size:0.9375rem">Susquehanna Workforce Network&#39\;s Virtual Job Fair!</span></strong></span></div>\n\n<div><span dir="auto" style="color:var(--primary-text)\; font-family:inherit\; font-size:0.9375rem">August 17\, 2021\, 10 a.m. &ndash\; Noon</span><br />\n&nbsp\;</div>\n</div>\n\n<div>\n<div><span dir="auto" style="color:var(--primary-text)\; font-family:inherit\; font-size:0.9375rem"><strong>Organization Registration</strong> <span style="font-family:inherit"><a class="oajrlxb2 g5ia77u1 qu0x051f esr5mh6w e9989ue4 r7d6kgcz rq0escxv nhd2j8a9 nc684nl6 p7hjln8o kvgmc6g5 cxmmr5t8 oygrvhab hcukyx3x jb3vyjys rz4wbd8a qt6c0cv9 a8nywdso i1ao9s8h esuyzwwr f1sip0of lzcic4wl py34i1dx gpro0wi8" href="https://pvapi.premiervirtual.com/s/wxbw4W?fbclid=IwAR0T1zHgu_h45fh106ZrbMD6OTavOUdjPRzHWo2KN1c10NsJ5C8oCG2JNKU" rel="nofollow noopener" style="color: var(--blue-link)\; cursor: pointer\; text-decoration-line: none\; outline: none\; list-style: none\; border-width: 0px\; border-style: initial\; border-color: initial\; padding: 0px\; margin: 0px\; touch-action: manipulation\; background-color: transparent\; text-align: inherit\; display: inline\; -webkit-tap-highlight-color: transparent\; box-sizing: border-box\; font-family: inherit\;" tabindex="0" target="_blank">https://pvapi.premiervirtual.com/s/wxbw4W</a></span></span></div>\n\n<div><span dir="auto" style="color:var(--primary-text)\; font-family:inherit\; font-size:0.9375rem"><strong>Jobseeker Registration</strong> <span style="font-family:inherit"><a class="oajrlxb2 g5ia77u1 qu0x051f esr5mh6w e9989ue4 r7d6kgcz rq0escxv nhd2j8a9 nc684nl6 p7hjln8o kvgmc6g5 cxmmr5t8 oygrvhab hcukyx3x jb3vyjys rz4wbd8a qt6c0cv9 a8nywdso i1ao9s8h esuyzwwr f1sip0of lzcic4wl py34i1dx gpro0wi8" href="https://swnjobseeker.com/hireme?fbclid=IwAR1U5Mfwz6EsRKRh656csQz2y9w-iJtUrVIgpjUxKvC49OPt2QXynWICaiw" rel="nofollow noopener" style="color: var(--blue-link)\; cursor: pointer\; text-decoration-line: none\; outline: none\; list-style: none\; border-width: 0px\; border-style: initial\; border-color: initial\; padding: 0px\; margin: 0px\; touch-action: manipulation\; background-color: transparent\; text-align: inherit\; display: inline\; -webkit-tap-highlight-color: transparent\; box-sizing: border-box\; font-family: inherit\;" tabindex="0" target="_blank">https://swnjobseeker.com/hireme</a></span></span><br />\n&nbsp\;</div>\n</div>\n\n<div>\n<div><strong><span dir="auto" style="color:var(--primary-text)\; font-family:inherit\; font-size:0.9375rem">Need some guidance?</span></strong></div>\n\n<div><span dir="auto" style="color:var(--primary-text)\; font-family:inherit\; font-size:0.9375rem">VIDEO: How to Register for the Event:&nbsp\;</span><a href="https://www.youtube.com/watch?v=IfLYk8ffgaE" target="_blank">https://www.youtube.com/watch?v=IfLYk8ffgaE</a></div>\n</div>\n</div>\n</div>\n</div>\n</div>\n</div>\n
LOCATION:Virtual: https://pvapi.premiervirtual.com/s/e8Q9b8
UID:e.2776.12463
SEQUENCE:3
DTSTAMP:20260424T074704Z
URL:https://business.harfordchamber.org/events/details/susquehanna-workforce-network-virtual-job-fair-august-17-2021-12463
END:VEVENT

END:VCALENDAR
