BEGIN:VCALENDAR
VERSION:2.0
PRODID:-//ChamberMaster//Event Calendar 2.0//EN
METHOD:PUBLISH
X-PUBLISHED-TTL:P3D
REFRESH-INTERVAL:P3D
CALSCALE:GREGORIAN
BEGIN:VEVENT
DTSTART:20250614T160000Z
DTEND:20250614T220000Z
X-MICROSOFT-CDO-ALLDAYEVENT:FALSE
SUMMARY:The Breathe Love Music Festival
DESCRIPTION:What a great way to kick off the summer!!! This fun day features 2 stages with 6 bands throughout the day. A variety of styles that will be sure to fit everyone.\n\nNot to be outdone by the music\, Hopkins Farm Brewery will have their adult beverages on tap ready to go along with food trucks\, where again\, everyone will be sure to find something to enjoy.\n\nThen for those wanting a little more - who doesn't love raffles\, 50/50s and silent auctions to enjoy.\n\nSo grab your lawn chairs\, yard games\, friends and family and lets have a great day all for a great cause.\n\n\n\n\n\n\n\nSponsorships Available\n\nIn the past four years alone\, Breathe 379 has made an incredible impact by providing over 30\,000 essential items\, including groceries\, clothing\, coffee\, lunch bar items\, Christmas gifts\, and back-to-school supplies\, among many other necessities.\n\nAll of this has been possible thanks to the dedicated volunteers and the generous support of our community and beyond. With no government grants involved\, your donations have fueled every aspect of our efforts.\n\nBut we're not stopping here. This year\, we have exciting opportunities to further our mission of "Finding and Meeting the Needs of Our Communities and Beyond" through additional outreach initiatives. We need your continued support to make these opportunities a reality. Consider sponsoring this free event to help Breathe 379 as we remain #inittogether in our quest to make a difference.
X-ALT-DESC;FMTTYPE=text/html:<div>\n<div>\n<div>\n<p>What a great way to kick off the summer!!! This fun day features 2 stages with 6 bands throughout the day. A variety of styles that will be sure to fit everyone.</p>\n\n<p style="margin-left:unset\; margin-right:unset">Not to be outdone by the music\, Hopkins Farm Brewery will have their adult beverages on tap ready to go along with food trucks\, where again\, everyone will be sure to find something to enjoy.</p>\n\n<p style="margin-left:unset\; margin-right:unset">Then for those wanting a little more - who doesn&#39\;t love raffles\, 50/50s and silent auctions to enjoy.</p>\n\n<p style="margin-left:unset\; margin-right:unset">So grab your lawn chairs\, yard games\, friends and family and lets have a great day all for a great cause.</p>\n</div>\n</div>\n</div>\n\n<div>\n<div>\n<div>\n<p><strong>Sponsorships Available</strong></p>\n\n<p style="margin-left:unset\; margin-right:unset">In the past four years alone\, Breathe 379 has made an incredible impact by providing over 30\,000 essential items\, including groceries\, clothing\, coffee\, lunch bar items\, Christmas gifts\, and back-to-school supplies\, among many other necessities.</p>\n\n<p style="margin-left:unset\; margin-right:unset">All of this has been possible thanks to the dedicated volunteers and the generous support of our community and beyond. With no government grants involved\, your donations have fueled every aspect of our efforts.</p>\n\n<p style="margin-left:unset\; margin-right:unset">But we&#39\;re not stopping here. This year\, we have exciting opportunities to further our mission of &quot\;Finding and Meeting the Needs of Our Communities and Beyond&quot\; through additional outreach initiatives. We need your continued support to make these opportunities a reality. Consider sponsoring this free event to help Breathe 379 as we remain #inittogether in our quest to make a difference.</p>\n</div>\n</div>\n</div>\n
LOCATION:Hopkins Farm Brewery
UID:e.2776.15724
SEQUENCE:3
DTSTAMP:20260421T170050Z
URL:https://business.harfordchamber.org/events/details/the-breathe-love-music-festival-15724
END:VEVENT

END:VCALENDAR
