BEGIN:VCALENDAR
VERSION:2.0
PRODID:-//ChamberMaster//Event Calendar 2.0//EN
METHOD:PUBLISH
X-PUBLISHED-TTL:P3D
REFRESH-INTERVAL:P3D
CALSCALE:GREGORIAN
BEGIN:VEVENT
DTSTART;VALUE=DATE:20190611
DTEND;VALUE=DATE:20190612
TRANSP:TRANSPARENT
X-MICROSOFT-CDO-ALLDAYEVENT:TRUE
SUMMARY:The John Carroll School Annual Golf Tournament
DESCRIPTION:Network with friends and colleagues in the influential John Carroll community at the beautiful Bulle Rock Golf Course for this popular event that always sells out!\n10:30am - Registration Opens\n\n11:00am - Lunch Buffet Opens\n\n12:40pm - Golfers in Carts\n\n1:00pm - Shotgun Start\n\nCocktail reception and awards dinner immediately following.\n\n\n\nSponsorships are also available\; visit johncarroll.org/golf for more information or to register.
X-ALT-DESC;FMTTYPE=text/html:Network with friends and colleagues in the influential John Carroll community at the beautiful Bulle Rock Golf Course for this popular event that always sells out!\n<p>10:30am - Registration Opens</p>\n\n<p>11:00am - Lunch Buffet Opens</p>\n\n<p>12:40pm - Golfers in Carts</p>\n\n<p>1:00pm - Shotgun Start</p>\n\n<p>Cocktail reception and awards dinner immediately following.<br />\n<br />\nSponsorships are also available\; visit johncarroll.org/golf for more information or to register.</p>\n
LOCATION:Bulle Rock Golf Club 320 Blenheim Lane Havre de Grace\, MD 21078
UID:e.2776.6985
SEQUENCE:3
DTSTAMP:20260426T043811Z
URL:https://business.harfordchamber.org/events/details/the-john-carroll-school-annual-golf-tournament-6985
END:VEVENT

END:VCALENDAR
