BEGIN:VCALENDAR
VERSION:2.0
PRODID:-//ChamberMaster//Event Calendar 2.0//EN
METHOD:PUBLISH
X-PUBLISHED-TTL:P3D
REFRESH-INTERVAL:P3D
CALSCALE:GREGORIAN
BEGIN:VEVENT
DTSTART:20191009T223000Z
DTEND:20191010T003000Z
X-MICROSOFT-CDO-ALLDAYEVENT:FALSE
SUMMARY:The Kelly Group offering course at Harford Community College: College Planning: Applying and Paying for Higher Education - Wednesday\, October 9
DESCRIPTION:The Kelly Group is excited to announce that Chad Arrington\,CFP  and Tom Cusick CFP  will be teaching new courses on college planning this fall. The two sessions will be offered at Harford Community College. These sessions address the most challenging issues parents face in saving\, planning\, and paying for their children's college education.\n\n\n\nOne of the biggest financial challenges families face is how to pay for college. This class will address college savings plans\, loans\, grants\, scholarships and other methods of meeting this need. We will also discuss the FAFSA form and review the federal student loan program and issues involved with repayment\, and how to maximize the value in the type of higher education your child chooses. This course is designed for parents with a child in high school and/or who is a freshman in college. \n\n\n\nYou can register by calling CET Registration at 443-412-2376 or stop by the CET Registration Desk in Edgewood Hall (Mon-Thu 7:30 am   6:30 pm and Fri 7:30 am   4:30 pm) for help registering.  \n\n \n\nIf you have previously enrolled in courses through HCC\, and you prefer to register online\, please use this link https://banner.harford.edu/StudentRegistrationSsb/ssb/registration .  If you have not enrolled\, you can apply at https://ssb.harford.edu/pls/prod/bwskalog.p_disploginnew?in_id=&cpbl=&newid= .\n\n\n\nSecurities offered through Cambridge Investment Research\, Inc. a Broker/Dealer\, member FINRA/SIPC. Advisory services through Cambridge Investment Research Advisor\, Inc.\, a Registered Investment Advisor. The Kelly Group and Cambridge are not affiliated.
X-ALT-DESC;FMTTYPE=text/html:<span style="font-size:16px"><span style="font-family:times new roman"><span style="color:#2D3F36">The Kelly Group is excited to announce that Chad Arrington\,CFP</span><em><strong>&reg\;&nbsp\;</strong></em>and Tom Cusick CFP<em><strong>&reg\;&nbsp\;</strong></em>will be teaching new courses on college planning this fall. The two sessions will be offered at Harford Community College. These sessions address the most challenging issues parents face in saving\, planning\, and paying for their children&#39\;s college education.<br />\n<br />\n<span style="color:#2D3F36">One of the biggest financial challenges families face is how to pay for college. This class will address college savings plans\, loans\, grants\, scholarships and other methods of meeting this need. We will also discuss the FAFSA form and review the federal student loan program and issues involved with repayment\, and how to maximize the value in the type of higher education your child chooses. This course is designed for parents with a child in high school and/or who is a freshman in college.&nbsp\;</span><br />\n<br />\n<span style="color:#2D3F36">You can register by calling CET Registration at 443-412-2376 or stop by the CET Registration Desk in Edgewood Hall (Mon-Thu 7:30 am &ndash\; 6:30 pm and Fri 7:30 am &ndash\; 4:30 pm) for help registering.&nbsp\;&nbsp\;</span><br />\n<span style="color:#333333">&nbsp\;<br />\nIf you have previously enrolled in courses through HCC\, and you prefer to register online\, please use this link&nbsp\;</span><a href="https://banner.harford.edu/StudentRegistrationSsb/ssb/registration" style="font-variant-ligatures:normal\;font-variant-caps:normal\;orphans:2\;text-align:start\;widows:2\;-webkit-text-stroke-width:0px\;word-spacing:0px\;"><span style="color:#0782C1">https://banner.harford.edu/StudentRegistrationSsb/ssb/registration</span></a><span style="color:#333333">&nbsp\;.&nbsp\; If you have not enrolled\, you can apply at&nbsp\;</span><a href="https://ssb.harford.edu/pls/prod/bwskalog.p_disploginnew?in_id=&amp\;cpbl=&amp\;newid=" style="font-variant-ligatures:normal\;font-variant-caps:normal\;orphans:2\;text-align:start\;widows:2\;-webkit-text-stroke-width:0px\;word-spacing:0px\;"><span style="color:#0782C1">https://ssb.harford.edu/pls/prod/bwskalog.p_disploginnew?in_id=&amp\;cpbl=&amp\;newid=</span></a><span style="color:#333333">&nbsp\;.</span></span></span><br />\n<br />\n<span style="font-size:12px"><span style="font-family:times new roman"><span style="color:black">Securities offered through Cambridge Investment Research\, Inc.&nbsp\;a Broker/Dealer\, member FINRA/SIPC. Advisory services through&nbsp\;Cambridge Investment Research Advisor\, Inc.\, a Registered Investment Advisor. </span><a href="http://www.kellygrouponline.com/" target="_blank"><strong><span style="color:#07407A">The Kelly Group </span></strong></a><span style="color:black">and Cambridge are not affiliated.&nbsp\;</span></span></span><br />\n&nbsp\;
LOCATION:
UID:e.2776.8540
SEQUENCE:3
DTSTAMP:20260425T001100Z
URL:https://business.harfordchamber.org/events/details/the-kelly-group-offering-course-at-harford-community-college-college-planning-applying-and-paying-for-higher-education-wednesday-october-9-8540
END:VEVENT

END:VCALENDAR
