BEGIN:VCALENDAR
VERSION:2.0
PRODID:-//ChamberMaster//Event Calendar 2.0//EN
METHOD:PUBLISH
X-PUBLISHED-TTL:P3D
REFRESH-INTERVAL:P3D
CALSCALE:GREGORIAN
BEGIN:VEVENT
DTSTART:20191002T223000Z
DTEND:20191003T003000Z
X-MICROSOFT-CDO-ALLDAYEVENT:FALSE
SUMMARY:The Kelly Group offering course at Harford Community College: College Planning: Saving and Early Planning for Higher Education - Wednesday\, October 2
DESCRIPTION:The Kelly Group is excited to announce that Chad Arrington\,CFP  and Tom Cusick CFP  will be teaching new courses on college planning this fall. The two sessions will be offered at Harford Community College. These sessions address the most challenging issues parents face in saving\, planning\, and paying for their children's college education.\n\n\n\nThis course provides ideas on how to save for college when your children are still young. Topics discussed include types of investment vehicles (e.g.\, 529 plans\, UTMAs\, Coverdell IRAs)\, costs of college\, and types of schools (trade school vs. traditional college vs. combination 2-year community college and 2 year bachelors). We will also address the time value of money and the effect of inflation on higher education costs. This course is designed for expecting parents and parents with young children. \n\n\n\nYou can register by calling CET Registration at 443-412-2376 or stop by the CET Registration Desk in Edgewood Hall (Mon-Thu 7:30 am   6:30 pm and Fri 7:30 am   4:30 pm) for help registering.  \n\n \n\nIf you have previously enrolled in courses through HCC\, and you prefer to register online\, please use this link https://banner.harford.edu/StudentRegistrationSsb/ssb/registration .  If you have not enrolled\, you can apply at https://ssb.harford.edu/pls/prod/bwskalog.p_disploginnew?in_id=&cpbl=&newid= before registering for courses.\n\n \n\nSecurities offered through Cambridge Investment Research\, Inc. a Broker/Dealer\, member FINRA/SIPC. Advisory services through Cambridge Investment Research Advisor\, Inc.\, a Registered Investment Advisor. The Kelly Group and Cambridge are not affiliated.
X-ALT-DESC;FMTTYPE=text/html:<span style="font-size:16px"><span style="font-family:times new roman"><span style="color:#2D3F36">The Kelly Group is excited to announce that Chad Arrington\,CFP</span><strong><em><span style="color:#2D3F36">&reg\;&nbsp\;</span></em></strong><span style="color:#2D3F36">and Tom Cusick CFP</span><strong><em><span style="color:#2D3F36">&reg\;&nbsp\;</span></em></strong><span style="color:#2D3F36">will be teaching new courses on college planning this fall. The two sessions will be offered at Harford Community College. These sessions address the most challenging issues parents face in saving\, planning\, and paying for their children&#39\;s college education.</span><br />\n<br />\n<span style="color:#2D3F36">This course provides ideas on how to save for college when your children are still young. Topics discussed include types of investment vehicles (e.g.\, 529 plans\, UTMAs\, Coverdell IRAs)\, costs of college\, and types of schools (trade school vs. traditional college vs. combination 2-year community college and 2 year bachelors). We will also address the time value of money and the effect of inflation on higher education costs. This course is designed for expecting parents and parents with young children.&nbsp\;</span><br />\n<br />\nYou can register by calling CET Registration at 443-412-2376 or stop by the CET Registration Desk in Edgewood Hall (Mon-Thu 7:30 am &ndash\; 6:30 pm and Fri 7:30 am &ndash\; 4:30 pm) for help registering.&nbsp\;&nbsp\;<br />\n&nbsp\;<br />\nIf you have previously enrolled in courses through HCC\, and you prefer to register online\, please use this link <a href="https://banner.harford.edu/StudentRegistrationSsb/ssb/registration">https://banner.harford.edu/StudentRegistrationSsb/ssb/registration</a>&nbsp\;.&nbsp\; If you have not enrolled\, you can apply at&nbsp\;<a href="https://ssb.harford.edu/pls/prod/bwskalog.p_disploginnew?in_id=&amp\;cpbl=&amp\;newid=">https://ssb.harford.edu/pls/prod/bwskalog.p_disploginnew?in_id=&amp\;cpbl=&amp\;newid=</a>&nbsp\;before registering for courses.</span></span><br />\n&nbsp\;<br />\n<span style="font-size:12px"><span style="font-family:times new roman"><span style="color:black">Securities offered through Cambridge Investment Research\, Inc.&nbsp\;a Broker/Dealer\, member FINRA/SIPC. Advisory services through&nbsp\;Cambridge Investment Research Advisor\, Inc.\, a Registered Investment Advisor. </span><a href="http://www.kellygrouponline.com/" target="_blank"><strong><span style="color:#07407A">The Kelly Group </span></strong></a><span style="color:black">and Cambridge are not affiliated.&nbsp\;</span></span></span><br />\n<br />\n&nbsp\;
LOCATION:Harford Community College
UID:e.2776.8539
SEQUENCE:3
DTSTAMP:20260425T001100Z
URL:https://business.harfordchamber.org/events/details/the-kelly-group-offering-course-at-harford-community-college-college-planning-saving-and-early-planning-for-higher-education-wednesday-october-2-8539
END:VEVENT

END:VCALENDAR
