BEGIN:VCALENDAR
VERSION:2.0
PRODID:-//ChamberMaster//Event Calendar 2.0//EN
METHOD:PUBLISH
X-PUBLISHED-TTL:P3D
REFRESH-INTERVAL:P3D
CALSCALE:GREGORIAN
BEGIN:VEVENT
DTSTART:20191016T223000Z
DTEND:20191017T003000Z
X-MICROSOFT-CDO-ALLDAYEVENT:FALSE
SUMMARY:The Kelly Group offering course at Harford Community College: Legacy Planning for Baby Boomers- Wednesday\, October 16th
DESCRIPTION:This fall\, Harford Community College and The Kelly Group are offering several courses specifically for Baby Boomers.\n\n\n\nLegacy Planning for Baby Boomers\n\nWednesday\, Oct. 16th\, Instructors: Jodi Davis and Charlie Wolpoff\n\nLegacy Planning brings the human element into estate planning. What would happen to your loved ones if something should happen to you?  Would they have a process to follow\, or would their world be engulfed in chaos? This course takes you beyond estate documents\, discussing how you can convert chaos to clarity and closure. Legacy Planning follows a logical progression\, and each participant will be given a workbook for planning purposes.  Legacy Planning is a dynamic process that is not hard you just have to get started!   \n\n\n\nYou can register by calling CET Registration at 443-412-2376 or stop by the CET Registration Desk in Edgewood Hall (Mon-Thu 7:30 am   6:30 pm and Fri 7:30 am   4:30 pm) for help registering.  \n\n \n\nIf you have previously enrolled in courses through HCC\, and you prefer to register online\, please use this link https://banner.harford.edu/StudentRegistrationSsb/ssb/registration .  If you have not enrolled\, you can apply at https://ssb.harford.edu/pls/prod/bwskalog.p_disploginnew?in_id=&cpbl=&newid= before registering.\n\n\n\nSecurities offered through Cambridge Investment Research\, Inc. a Broker/Dealer\, member FINRA/SIPC. Advisory services through Cambridge Investment Research Advisor\, Inc.\, a Registered Investment Advisor. The Kelly Group and Cambridge are not affiliated.
X-ALT-DESC;FMTTYPE=text/html:<span style="font-size:16px"><span style="font-family:times new roman"><span style="color:#333333">This fall\, Harford Community College and The Kelly Group are offering several courses specifically for Baby Boomers.</span><br />\n<br />\n<strong><u><span style="color:#07407A">Legacy Planning for Baby Boomers</span></u></strong><br />\n<strong>Wednesday\, Oct. 16th\, </strong><strong>Instructors: Jodi Davis and Charlie Wolpoff</strong><br />\nLegacy Planning brings the human element into estate planning. What would happen to your loved ones if something should happen to you?&nbsp\; Would they have a process to follow\, or would their world be engulfed in chaos? This course takes you beyond estate documents\, discussing how you can convert chaos to clarity and closure. Legacy Planning follows a logical progression\, and each participant will be given a workbook for planning purposes.&nbsp\; Legacy Planning is a dynamic process that is not hard&mdash\;you just have to get started! &nbsp\;&nbsp\;<br />\n<br />\n<span style="color:#333333">You can register by calling CET Registration at 443-412-2376 or stop by the CET Registration Desk in Edgewood Hall (Mon-Thu 7:30 am &ndash\; 6:30 pm and Fri 7:30 am &ndash\; 4:30 pm) for help registering.&nbsp\;&nbsp\;<br />\n&nbsp\;<br />\nIf you have previously enrolled in courses through HCC\, and you prefer to register online\, please use this link&nbsp\;<a href="https://banner.harford.edu/StudentRegistrationSsb/ssb/registration" style="font-variant-ligatures:normal\;font-variant-caps:normal\;orphans:2\;text-align:start\;widows:2\;-webkit-text-stroke-width:0px\;word-spacing:0px\;"><span style="color:#0782C1">https://banner.harford.edu/StudentRegistrationSsb/ssb/registration</span></a>&nbsp\;.&nbsp\; If you have not enrolled\, you can apply at&nbsp\;<a href="https://ssb.harford.edu/pls/prod/bwskalog.p_disploginnew?in_id=&amp\;cpbl=&amp\;newid=" style="font-variant-ligatures:normal\;font-variant-caps:normal\;orphans:2\;text-align:start\;widows:2\;-webkit-text-stroke-width:0px\;word-spacing:0px\;"><span style="color:#0782C1">https://ssb.harford.edu/pls/prod/bwskalog.p_disploginnew?in_id=&amp\;cpbl=&amp\;newid=</span></a>&nbsp\;before registering.</span><br />\n<br />\n<span style="font-size:12px"><span style="color:black">Securities offered through Cambridge Investment Research\, Inc.&nbsp\;a Broker/Dealer\, member FINRA/SIPC. Advisory services through&nbsp\;Cambridge Investment Research Advisor\, Inc.\, a Registered Investment Advisor.&nbsp\;<span style="color:#333333"><a href="http://www.kellygrouponline.com/" target="_blank"><strong><span style="color:#07407A">The Kelly Group&nbsp\;</span></strong></a></span><span style="color:black">and Cambridge are not affiliated.&nbsp\;</span></span></span></span></span>
LOCATION:Harford Community College
UID:e.2776.8544
SEQUENCE:3
DTSTAMP:20260425T020447Z
URL:https://business.harfordchamber.org/events/details/the-kelly-group-offering-course-at-harford-community-college-legacy-planning-for-baby-boomers-wednesday-october-16th-8544
END:VEVENT

END:VCALENDAR
