BEGIN:VCALENDAR
VERSION:2.0
PRODID:-//ChamberMaster//Event Calendar 2.0//EN
METHOD:PUBLISH
X-PUBLISHED-TTL:P3D
REFRESH-INTERVAL:P3D
CALSCALE:GREGORIAN
BEGIN:VEVENT
DTSTART:20190925T223000Z
DTEND:20190926T003000Z
X-MICROSOFT-CDO-ALLDAYEVENT:FALSE
SUMMARY:The Kelly Group offering course at Harford Community College: Medicare Planning for Baby Boomers- Wednesday\, September 25th
DESCRIPTION:This fall\, Harford Community College and The Kelly Group are offering several courses specifically for Baby Boomers.\n\n\n\nMedicare Planning for Baby Boomers\n\nWednesday\, Sept. 25th\, Instructor: Charlie Wolpoff\, CFP\, JD\, LLM\n\nWhen you turn 65\, the federal government gives you a birthday present: Entr e into the brave new world of Medicare. This course will address Medicare basics and help you navigate through potentially costly traps. We will also discuss how to shop for the private insurance you need to supplement Medicare.\n\n\n\nYou can register by calling CET Registration at 443-412-2376 or stop by the CET Registration Desk in Edgewood Hall (Mon-Thu 7:30 am   6:30 pm and Fri 7:30 am   4:30 pm) for help registering.  \n\n \n\nIf you have previously enrolled in courses through HCC\, and you prefer to register online\, please use this link https://banner.harford.edu/StudentRegistrationSsb/ssb/registration .  If you have not enrolled\, you can apply at https://ssb.harford.edu/pls/prod/bwskalog.p_disploginnew?in_id=&cpbl=&newid= before registering.\n\n\n\nSecurities offered through Cambridge Investment Research\, Inc. a Broker/Dealer\, member FINRA/SIPC. Advisory services through Cambridge Investment Research Advisor\, Inc.\, a Registered Investment Advisor. The Kelly Group and Cambridge are not affiliated.
X-ALT-DESC;FMTTYPE=text/html:<div><span style="font-size:16px"><span style="color:#333333">This fall\, Harford Community College and The Kelly Group are offering several courses specifically for Baby Boomers.</span><br />\n<br />\n<strong><u><span style="color:#07407A">Medicare&nbsp\;Planning&nbsp\;for Baby Boomers</span></u></strong><br />\n<strong>Wednesday\, Sept. 25<sup>th</sup>\,</strong><strong> Instructor: Charlie Wolpoff\, CFP\, JD\, LLM</strong><br />\n<strong>When you turn 65</strong>\, the federal government gives you a birthday present: Entr&eacute\;e into the brave new world of Medicare. This course will address Medicare basics and help you navigate through potentially costly traps. We will also discuss how to shop for the private insurance you need to supplement Medicare.<br />\n<br />\n<span style="color:#333333">You can register by calling CET Registration at 443-412-2376 or stop by the CET Registration Desk in Edgewood Hall (Mon-Thu 7:30 am &ndash\; 6:30 pm and Fri 7:30 am &ndash\; 4:30 pm) for help registering.&nbsp\;&nbsp\;</span><br />\n<span style="color:#333333">&nbsp\;<br />\nIf you have previously enrolled in courses through HCC\, and you prefer to register online\, please use this link&nbsp\;</span><a href="https://banner.harford.edu/StudentRegistrationSsb/ssb/registration" style="font-variant-ligatures:normal\;font-variant-caps:normal\;orphans:2\;text-align:start\;widows:2\;-webkit-text-stroke-width:0px\;word-spacing:0px\;"><span style="color:#0782C1">https://banner.harford.edu/StudentRegistrationSsb/ssb/registration</span></a><span style="color:#333333">&nbsp\;.&nbsp\; If you have not enrolled\, you can apply at&nbsp\;</span><a href="https://ssb.harford.edu/pls/prod/bwskalog.p_disploginnew?in_id=&amp\;cpbl=&amp\;newid=" style="font-variant-ligatures:normal\;font-variant-caps:normal\;orphans:2\;text-align:start\;widows:2\;-webkit-text-stroke-width:0px\;word-spacing:0px\;"><span style="color:#0782C1">https://ssb.harford.edu/pls/prod/bwskalog.p_disploginnew?in_id=&amp\;cpbl=&amp\;newid=</span></a><span style="color:#333333">&nbsp\;before registering.</span></span><br />\n<br />\n<span style="font-size:12px"><span style="color:black"><span style="font-family:calibri\,sans-serif">Securities offered through Cambridge Investment Research\, Inc.&nbsp\;a Broker/Dealer\, member FINRA/SIPC. Advisory services through&nbsp\;Cambridge Investment Research Advisor\, Inc.\, a Registered Investment Advisor. </span></span><span style="font-family:calibri\,sans-serif"><a href="http://www.kellygrouponline.com/" target="_blank"><strong><span style="color:#07407a">The Kelly Group </span></strong></a></span><span style="color:black"><span style="font-family:calibri\,sans-serif">and Cambridge are not affiliated.&nbsp\;</span></span></span><br />\n&nbsp\;</div>\n
LOCATION:Harford Community College
UID:e.2776.8541
SEQUENCE:3
DTSTAMP:20260426T012650Z
URL:https://business.harfordchamber.org/events/details/the-kelly-group-offering-course-at-harford-community-college-medicare-planning-for-baby-boomers-wednesday-september-25th-8541
END:VEVENT

END:VCALENDAR
