BEGIN:VCALENDAR
VERSION:2.0
PRODID:-//ChamberMaster//Event Calendar 2.0//EN
METHOD:PUBLISH
X-PUBLISHED-TTL:P3D
REFRESH-INTERVAL:P3D
CALSCALE:GREGORIAN
BEGIN:VEVENT
DTSTART:20191002T223000Z
DTEND:20191003T003000Z
X-MICROSOFT-CDO-ALLDAYEVENT:FALSE
SUMMARY:The Kelly Group offering courses at Harford Community College: Retirement Realities for Baby Boomers Wednesday\, October 2nd and 9th (This is a two-session class)
DESCRIPTION:This fall\, Harford Community College and The Kelly Group are offering several courses specifically for Baby Boomers.\n\n\n\nRetirement Realities for Baby Boomers\n\nWednesday\, Oct. 2nd and 9th\, Instructors: Jodi Davis and Charlie Wolpoff\n\nThis two-session class is for Baby Boomers facing the challenge of how to successfully make it to\, and through\, retirement. It will focus on how best to utilize two of the most valuable retirement tools: Individual Retirement Accounts ("IRAs") and employer-sponsored retirement plans (such as 401(k)\, 403(b)\, and TSP). Retirement Realities will address the most important rules of the road for maximizing the benefit of these often underappreciated and misused vehicles.  Participants will enjoy a healthy\, honest\, and frank discussion on how to create savvy strategies for accumulating and spending these assets in order to enhance financial\, physical\, and emotional peace in your golden years. \n\n\n\nYou can register by calling CET Registration at 443-412-2376 or stop by the CET Registration Desk in Edgewood Hall (Mon-Thu 7:30 am   6:30 pm and Fri 7:30 am   4:30 pm) for help registering.  \n\n \n\nIf you have previously enrolled in courses through HCC\, and you prefer to register online\, please use this link https://banner.harford.edu/StudentRegistrationSsb/ssb/registration .  If you have not enrolled\, you can apply at https://ssb.harford.edu/pls/prod/bwskalog.p_disploginnew?in_id=&cpbl=&newid= before registering.\n\n\n\nSecurities offered through Cambridge Investment Research\, Inc. a Broker/Dealer\, member FINRA/SIPC. Advisory services through Cambridge Investment Research Advisor\, Inc.\, a Registered Investment Advisor. The Kelly Group and Cambridge are not affiliated.
X-ALT-DESC;FMTTYPE=text/html:<span style="font-family:times new roman"><span style="font-size:16px">This fall\, Harford Community College and The Kelly Group are offering several courses specifically for Baby Boomers.</span><br />\n<br />\n<strong><u><span style="color:#07407A"><span style="font-size:12.0pt">Retirement Realities for Baby Boomers</span></span></u></strong><br />\n<strong><span style="font-size:12.0pt">Wednesday\, Oct. 2<sup>nd</sup> and 9<sup>th</sup>\, </span></strong><strong><span style="font-size:12.0pt">Instructors: Jodi Davis and Charlie Wolpoff</span></strong><br />\n<strong><span style="font-size:12.0pt">This two-session class</span></strong><span style="font-size:12.0pt"> is for Baby Boomers facing the challenge of how to successfully make it to\, and through\, retirement. It will focus on how best to utilize two of the most valuable retirement tools: Individual Retirement Accounts (&ldquo\;IRAs&rdquo\;) and employer-sponsored retirement plans (such as 401(k)\, 403(b)\, and TSP). Retirement Realities will address the most important rules of the road for maximizing the benefit of these often underappreciated and misused vehicles. &nbsp\;Participants will enjoy a healthy\, honest\, and frank discussion on how to create savvy strategies for accumulating and spending these assets in order to enhance financial\, physical\, and emotional peace in your golden years. </span><br />\n<br />\n<span style="font-size:16px">You can register by calling CET Registration at 443-412-2376 or stop by the CET Registration Desk in Edgewood Hall (Mon-Thu 7:30 am &ndash\; 6:30 pm and Fri 7:30 am &ndash\; 4:30 pm) for help registering.&nbsp\;&nbsp\;<br />\n&nbsp\;<br />\nIf you have previously enrolled in courses through HCC\, and you prefer to register online\, please use this link&nbsp\;<a href="https://banner.harford.edu/StudentRegistrationSsb/ssb/registration">https://banner.harford.edu/StudentRegistrationSsb/ssb/registration</a>&nbsp\;.&nbsp\; If you have not enrolled\, you can apply at&nbsp\;<a href="https://ssb.harford.edu/pls/prod/bwskalog.p_disploginnew?in_id=&amp\;cpbl=&amp\;newid=">https://ssb.harford.edu/pls/prod/bwskalog.p_disploginnew?in_id=&amp\;cpbl=&amp\;newid=</a>&nbsp\;before registering.</span><br />\n<br />\n<span style="font-size:12px"><span style="color:black">Securities offered through Cambridge Investment Research\, Inc.&nbsp\;a Broker/Dealer\, member FINRA/SIPC. Advisory services through&nbsp\;Cambridge Investment Research Advisor\, Inc.\, a Registered Investment Advisor.&nbsp\;</span><a href="http://www.kellygrouponline.com/" target="_blank"><strong><span style="color:rgb(7\, 64\, 122)">The Kelly Group&nbsp\;</span></strong></a><span style="color:black">and Cambridge are not affiliated.&nbsp\;</span></span></span>
LOCATION:Harford Community College
UID:e.2776.8542
SEQUENCE:3
DTSTAMP:20260425T001227Z
URL:https://business.harfordchamber.org/events/details/the-kelly-group-offering-courses-at-harford-community-college-retirement-realities-for-baby-boomers-wednesday-october-2nd-and-9th-this-is-a-two-session-class-8542
END:VEVENT

END:VCALENDAR
