BEGIN:VCALENDAR
VERSION:2.0
PRODID:-//ChamberMaster//Event Calendar 2.0//EN
METHOD:PUBLISH
X-PUBLISHED-TTL:P3D
REFRESH-INTERVAL:P3D
CALSCALE:GREGORIAN
BEGIN:VEVENT
DTSTART:20251010T180000Z
DTEND:20251013T030000Z
X-MICROSOFT-CDO-ALLDAYEVENT:FALSE
SUMMARY:The Ramble Festival
DESCRIPTION:The Ramble Festival is a three-day vibe-centric music festival focused on good people sharing great music and creating terrific times. The Ramble is held at Camp Ramblewood\, which boasts more than 200 pristine acres of natural beauty located in Harford County Maryland\, a short drive outside of the town of Darlington\, MD.  At The Ramble\, it's all about creating community through shared experiences and a mutual love of live music in a gorgeous outdoor setting. Come for the music\, be part of the vibe\, and find a new place to call home.
X-ALT-DESC;FMTTYPE=text/html:<div>\n<div>\n<div>\n<div>\n<div>\n<div>\n<div>\n<div>\n<p>The Ramble Festival is a three-day vibe-centric music festival focused on good people sharing great music and creating terrific times. The Ramble is held at Camp Ramblewood\, which boasts more than 200 pristine acres of natural beauty located in Harford County Maryland\, a short drive outside of the town of Darlington\, MD.&nbsp\; At The Ramble\, it&rsquo\;s all about creating community through shared experiences and a mutual love of live music in a gorgeous outdoor setting. Come for the music\, be part of the vibe\, and find a new place to call home.&nbsp\;</p>\n</div>\n</div>\n</div>\n</div>\n</div>\n</div>\n</div>\n</div>\n\n<div>&nbsp\;</div>\n
LOCATION:Camp Ramblewood 2564 Silver Rd Darlington\, MD 21034
UID:e.2776.15726
SEQUENCE:3
DTSTAMP:20260423T091633Z
URL:https://business.harfordchamber.org/events/details/the-ramble-festival-15726
END:VEVENT

END:VCALENDAR
