BEGIN:VCALENDAR
VERSION:2.0
PRODID:-//ChamberMaster//Event Calendar 2.0//EN
METHOD:PUBLISH
X-PUBLISHED-TTL:P3D
REFRESH-INTERVAL:P3D
CALSCALE:GREGORIAN
BEGIN:VEVENT
DTSTART:20191109T140000Z
DTEND:20191109T180000Z
X-MICROSOFT-CDO-ALLDAYEVENT:FALSE
SUMMARY:The Right Stuff STEM Carnival
DESCRIPTION:The Right Stuff STEM Carnival is a fun-filled STEM event aimed at providing students (elementary - middle - high school) opportunities to learn about STEM careers. The carnival consists of 15 STEM exhibits\, interactive games for students\, and a biomedical competition for the Boys and Girls Club middle school students only. Students will engage with DoD and private industry senior leaders on internships and other mentoring opportunities. A FREE breakfast\, lunch\, and snack will be offered to all. This event is sponsored by Huntington Ingalls Industries\, who will be on hand to talk with parents and students about their company and internship opportunities for students in Harford & Cecil Counties. Let's help our youth expand their horizons.
X-ALT-DESC;FMTTYPE=text/html:The Right Stuff STEM Carnival is a fun-filled STEM event aimed at providing students (elementary - middle - high school) opportunities to learn about STEM careers. The carnival consists of 15 STEM exhibits\, interactive games for students\, and a biomedical competition for the Boys and Girls Club middle school students only. Students will engage with DoD and private industry senior leaders on internships and other mentoring opportunities. A FREE breakfast\, lunch\, and snack will be offered to all. This event is sponsored by Huntington Ingalls Industries\, who will be on hand to talk with parents and students about their company and internship opportunities for students in Harford &amp\; Cecil Counties. Let&#39\;s help our youth expand their horizons.
LOCATION:Cecil & Harford Boys & Girls Club Edgewood\, 2002 Cedar Rd\, Edgewood\, Maryland
UID:e.2776.10581
SEQUENCE:3
DTSTAMP:20260424T220930Z
URL:https://business.harfordchamber.org/events/details/the-right-stuff-stem-carnival-10581
END:VEVENT

END:VCALENDAR
