BEGIN:VCALENDAR
VERSION:2.0
PRODID:-//ChamberMaster//Event Calendar 2.0//EN
METHOD:PUBLISH
X-PUBLISHED-TTL:P3D
REFRESH-INTERVAL:P3D
CALSCALE:GREGORIAN
BEGIN:VEVENT
DTSTART:20250412T150000Z
DTEND:20250412T170000Z
X-MICROSOFT-CDO-ALLDAYEVENT:FALSE
SUMMARY:The Sleeping Beauty - Ballet Chesapeake
DESCRIPTION:Ballet Chesapeake awakens the classic fairy tale "The Sleeping Beauty" in a traditional production that is sure to delight all ages. Performances Saturday\, April 12 at 11 am & 4 pm. Tickets available via balletchesapeake.org
X-ALT-DESC;FMTTYPE=text/html:Ballet Chesapeake awakens the classic fairy tale &quot\;The Sleeping Beauty&quot\; in a traditional production that is sure to delight all ages. Performances Saturday\, April 12 at 11 am &amp\; 4 pm. Tickets available via balletchesapeake.org
LOCATION:Stephens Hall Theatre 7900 Stephens Avenue Towson MD 21252
UID:e.2776.15687
SEQUENCE:3
DTSTAMP:20260421T203630Z
URL:https://business.harfordchamber.org/events/details/the-sleeping-beauty-ballet-chesapeake-15687
END:VEVENT

END:VCALENDAR
