BEGIN:VCALENDAR
VERSION:2.0
PRODID:-//ChamberMaster//Event Calendar 2.0//EN
METHOD:PUBLISH
X-PUBLISHED-TTL:P3D
REFRESH-INTERVAL:P3D
CALSCALE:GREGORIAN
BEGIN:VEVENT
DTSTART:20191120T233000Z
DTEND:20191121T004500Z
X-MICROSOFT-CDO-ALLDAYEVENT:FALSE
SUMMARY:The Stealing of the Wyeth Paintings
DESCRIPTION:"The Stealing of the Wyeth Paintings" is the topic of award-winning author and newspaper reporter Bruce E. Mowday's talk on Wednesday\, November 20\, from 6:30 to 7:45 p.m. at the Bel Air Library\, 100 East Pennsylvania Avenue in Bel Air. The event is supported by the Bel Air Friends of HCPL\, and copies of "Stealing Wyeth" will be available for purchase and signing.\n\n \n\nIn his book\, titled "Stealing Wyeth\," Mowday recounts the 1982 story of the 15 paintings stolen from the Wyeth Estate in Chadds Ford\, Pa. The search for the paintings took investigators throughout the United States on a chase that involved gamblers\, drug dealers and murders. Mowday's book tells how law enforcement brought the criminals to justice.\n\n \n\nMowday has authored 20 books on history\, sports\, business and true crime. He has appeared on the Discovery ID channel\, ReelZ network\, C-SPAN\, Pennsylvania Cable Network\, Hollywood and Beyond\, Whatcha Got\, Journey into the Civil War\, Chronicles of the American Civil War and other television shows. \n\nA frequent presenter at various civic and historical groups\, Mowday was named a "5-Star" speaker by the Congress of Civil War Round Tables.
X-ALT-DESC;FMTTYPE=text/html:<span style="font-family:times new roman\,serif"><span style="font-size:12.0pt">&quot\;The Stealing of the Wyeth Paintings&quot\; is the topic of award-winning author and newspaper reporter Bruce E. Mowday&#39\;s talk on Wednesday\, November 20\, from 6:30 to 7:45 p.m. at the Bel Air Library\, 100 East Pennsylvania Avenue in Bel Air. The event is supported by the Bel Air Friends of HCPL\, and copies of &quot\;Stealing Wyeth&quot\; will be available for purchase and signing.</span></span><br />\n&nbsp\;<br />\n<span style="font-family:times new roman\,serif"><span style="font-size:12.0pt">In his book\, titled &quot\;Stealing Wyeth\,&quot\; Mowday recounts the 1982 story of the 15 paintings stolen from the Wyeth Estate in Chadds Ford\, Pa. The search for the paintings took investigators throughout the United States on a chase that involved gamblers\, drug dealers and murders. Mowday&#39\;s book tells how law enforcement brought the criminals to justice.</span></span><br />\n&nbsp\;<br />\n<span style="font-family:times new roman\,serif"><span style="font-size:12.0pt">Mowday has authored 20 books on history\, sports\, business and true crime. He has appeared on the <em>Discovery ID</em> channel\, <em>ReelZ </em>network<em>\,</em> <em>C-SPAN\,</em> <em>Pennsylvania Cable Network\, Hollywood and Beyond\,</em> <em>Whatcha Got</em>\, <em>Journey into the Civil War</em>\, <em>Chronicles of the American Civil War</em> and other television shows. </span></span><br />\n<span style="font-family:times new roman\,serif"><span style="font-size:12.0pt">A frequent presenter at various civic and historical groups\, Mowday was named a &quot\;5-Star&quot\; speaker by the Congress of Civil War Round Tables.&nbsp\; </span></span><br />\n&nbsp\;
LOCATION:Bel Air Library 100 East Pennsylvania Avenue Bel Air
UID:e.2776.10579
SEQUENCE:3
DTSTAMP:20260424T221142Z
URL:https://business.harfordchamber.org/events/details/the-stealing-of-the-wyeth-paintings-10579
END:VEVENT

END:VCALENDAR
