BEGIN:VCALENDAR
VERSION:2.0
PRODID:-//ChamberMaster//Event Calendar 2.0//EN
METHOD:PUBLISH
X-PUBLISHED-TTL:P3D
REFRESH-INTERVAL:P3D
CALSCALE:GREGORIAN
BEGIN:VEVENT
DTSTART:20191211T160000Z
DTEND:20191212T040000Z
X-MICROSOFT-CDO-ALLDAYEVENT:FALSE
SUMMARY:Tips for Tots at The Greene Turtle\, Bel Air
DESCRIPTION:Join The Greene Turtle on Wednesday\, 12/11 from 11am-close for our Tips for Tots event benefiting Toys for Tots.  Our tipped team members will donate their tips to purchase new\, unwrapped toys for Toys for Tots.  The day will be full of fun and fundraising with a bake sale\, raffle\, 50/50\, giveaways and live music from 5pm-8pm!  Can't make it to the event\, drop a toy to our donation box near our host stand. \n\nCheck out more details here: https://www.facebook.com/events/784706011990307/
X-ALT-DESC;FMTTYPE=text/html:Join The Greene Turtle on Wednesday\, 12/11 from 11am-close for our Tips for Tots event benefiting Toys for Tots.&nbsp\; Our tipped team members will donate their tips to purchase new\, unwrapped toys for Toys for Tots.&nbsp\; The day will be full of fun and fundraising with a bake sale\, raffle\, 50/50\, giveaways and live music from 5pm-8pm!&nbsp\; Can&#39\;t make it to the event\, drop a toy to our donation box near our host stand.&nbsp\;<br />\nCheck out more details here: https://www.facebook.com/events/784706011990307/<br />\n&nbsp\;
LOCATION:The Greene Turtle\, Bel Air 696 Bel Air Road\, Suite 47 Bel Air MD 21014
UID:e.2776.10598
SEQUENCE:3
DTSTAMP:20260424T235553Z
URL:https://business.harfordchamber.org/events/details/tips-for-tots-at-the-greene-turtle-bel-air-10598
END:VEVENT

END:VCALENDAR
