BEGIN:VCALENDAR
VERSION:2.0
PRODID:-//ChamberMaster//Event Calendar 2.0//EN
METHOD:PUBLISH
X-PUBLISHED-TTL:P3D
REFRESH-INTERVAL:P3D
CALSCALE:GREGORIAN
BEGIN:VEVENT
DTSTART:20190602T170000Z
DTEND:20190623T200000Z
X-MICROSOFT-CDO-ALLDAYEVENT:FALSE
SUMMARY:UNLIKELY PAIRINGS ART SHOW
DESCRIPTION:Featuring the works of: Jennifer Hogan\, Michelle Spiziri\, Linda Popp\, Jessica St. Clair\, Kat Soul\, Jodi Harvey June 2 through June 23 This eclectic and exciting exhibit features the work of six exceptional artists. Featuring paintings\, photographs\, book sculptures\, mixed media\, and found object sculptures\, this collection brings together a variety of unique perspectives and voices to create an enlivening experience for the viewer. Sundays 1-4 pm Wednesdays 1-7 pm
X-ALT-DESC;FMTTYPE=text/html:Featuring the works of: Jennifer Hogan\, Michelle Spiziri\, Linda Popp\, Jessica St. Clair\, Kat Soul\, Jodi Harvey June 2 through June 23 This eclectic and exciting exhibit features the work of six exceptional artists. Featuring paintings\, photographs\, book sculptures\, mixed media\, and found object sculptures\, this collection brings together a variety of unique perspectives and voices to create an enlivening experience for the viewer. Sundays 1-4 pm Wednesdays 1-7 pm
LOCATION:The Liriodendron Mansion 502 W Gordon St Bel Air\, MD 21014
UID:e.2776.8414
SEQUENCE:3
DTSTAMP:20260426T043728Z
URL:https://business.harfordchamber.org/events/details/unlikely-pairings-art-show-8414
END:VEVENT

END:VCALENDAR
