BEGIN:VCALENDAR
VERSION:2.0
PRODID:-//ChamberMaster//Event Calendar 2.0//EN
METHOD:PUBLISH
X-PUBLISHED-TTL:P3D
REFRESH-INTERVAL:P3D
CALSCALE:GREGORIAN
BEGIN:VEVENT
DTSTART:20251029T220000Z
DTEND:20251029T233000Z
X-MICROSOFT-CDO-ALLDAYEVENT:FALSE
SUMMARY:Very Scary Horror Movie Discussion Group
DESCRIPTION:Harford County Public Library hosts a Very Scary Horror Movie Discussion Group for adults on October 29 from 6 to 7:30 p.m. at the Bel Air Library\, 100 East Pennsylvania Avenue. Participants are invited to join the discussion about the 1966 Italian horror classic "Kill Baby Kill." The movie may be viewed for free on Kanopy\, which may be accessed using a HCPL library card. Advanced registration for the program is required at https://programs.hcplonline.org/event/14134898.
X-ALT-DESC;FMTTYPE=text/html:<span style="font-family:times new roman\,serif"><span style="font-size:14.0pt">Harford County Public Library hosts a Very Scary Horror Movie Discussion Group for adults on October 29 from 6 to 7:30 p.m. at the Bel Air Library\, 100 East Pennsylvania Avenue. Participants are invited to join the discussion about the 1966 Italian horror classic &quot\;Kill Baby Kill.&quot\; The movie may be viewed for free on Kanopy\, which may be accessed using a HCPL library card. Advanced registration for the program is required at </span></span><a href="https://programs.hcplonline.org/event/14134898"><span style="font-family:times new roman\,serif"><span style="font-size:14.0pt">https://programs.hcplonline.org/event/14134898</span></span></a><span style="font-family:times new roman\,serif"><span style="font-size:14.0pt">. </span></span><br />\n&nbsp\;
LOCATION:Bel Air Library 100 East Pennsylvania Avenue Bel Air
UID:e.2776.16102
SEQUENCE:3
DTSTAMP:20260421T093448Z
URL:https://business.harfordchamber.org/events/details/very-scary-horror-movie-discussion-group-16102
END:VEVENT

END:VCALENDAR
