BEGIN:VCALENDAR
VERSION:2.0
PRODID:-//ChamberMaster//Event Calendar 2.0//EN
METHOD:PUBLISH
X-PUBLISHED-TTL:P3D
REFRESH-INTERVAL:P3D
CALSCALE:GREGORIAN
BEGIN:VEVENT
DTSTART:20251004T130000Z
DTEND:20251004T153000Z
X-MICROSOFT-CDO-ALLDAYEVENT:FALSE
SUMMARY:Walk to End Alzheimer's
DESCRIPTION:Join us for the Harford/Cecil Alzheimer's Association Walk to End Alzheimer's  in Aberdeen. Walk raises funds for Alzheimer's and dementia care\, support and research. This inspiring event calls on participants of all ages and abilities to join the fight against the disease.  There is no fee to register or minimum fundraising required.
X-ALT-DESC;FMTTYPE=text/html:<p>Join us for the Harford/Cecil Alzheimer&#39\;s Association Walk to End Alzheimer&#39\;s&reg\; in Aberdeen. Walk raises funds for Alzheimer&#39\;s and dementia care\, support and research. This inspiring event calls on participants of all ages and abilities to join the fight against the disease.&nbsp\; There is no fee to register or minimum fundraising required.</p>\n
LOCATION:Ripken Stadium\, 873 Long Drive\, Aberdeen\, MD 21001
UID:e.2776.16035
SEQUENCE:3
DTSTAMP:20260423T092203Z
URL:https://business.harfordchamber.org/events/details/walk-to-end-alzheimer-s-16035
END:VEVENT

END:VCALENDAR
