BEGIN:VCALENDAR
VERSION:2.0
PRODID:-//ChamberMaster//Event Calendar 2.0//EN
METHOD:PUBLISH
X-PUBLISHED-TTL:P3D
REFRESH-INTERVAL:P3D
CALSCALE:GREGORIAN
BEGIN:VEVENT
DTSTART:20250806T143000Z
DTEND:20250806T153000Z
X-MICROSOFT-CDO-ALLDAYEVENT:FALSE
SUMMARY:Wildlife Adventures: Colors of the Wild
DESCRIPTION:As part of Summer Reading 2025\, Harford County Public Library hosts Wildlife Adventures: Colors of the Wild on August 6 from 10:30 to 11:30 a.m. at the Jarrettsville Library\, 3722 Norrisville Road\, and from 2 to 3 p.m. at the Whiteford Library\, 2407 Whiteford Road. Colors of the Wild is a vibrant exploration of how animals use color to survive\, communicate and create. Through gentle live animal encounters\, kids will discover nature's artistry while learning how they can help wildlife. Young artists are invited to bring their own wildlife art to share to celebrate the beauty of the natural world. The event is supported by the Jarrettsville and North Harford Friends of HCPL. Advanced registration (opens July 23) is required at www.HCPLonline.org.
X-ALT-DESC;FMTTYPE=text/html:<span style="font-family:arial\,sans-serif"><span style="font-size:12.0pt">As part of Summer Reading 2025\, Harford County Public Library hosts <span style="color:black">Wildlife Adventures: Colors of the Wild on August 6 from 10:30 to 11:30 a.m. at the Jarrettsville Library\, 3722 Norrisville Road\, and from 2 to 3 p.m. at the Whiteford Library\, 2407 Whiteford Road. Colors of the Wild is a vibrant exploration of how animals use color to survive\, communicate and create. Through gentle live animal encounters\, kids will discover nature&rsquo\;s artistry while learning how they can help wildlife. Young artists are invited to bring their own wildlife art to share to celebrate the beauty of the natural world.&nbsp\;</span></span></span><span style="color:black"><span style="font-family:arial\,sans-serif"><span style="font-size:12.0pt">The event is supported by the Jarrettsville and North Harford Friends of HCPL. Advanced registration (opens July 23) is required at </span></span></span><a href="http://www.hcplonline.org/"><span style="font-family:arial\,sans-serif"><span style="font-size:12.0pt">www.HCPLonline.org</span></span></a><span style="color:black"><span style="font-family:arial\,sans-serif"><span style="font-size:12.0pt">.</span></span></span><br />\n<br />\n<br />\n&nbsp\;
LOCATION:Jarrettsville Library\, 10:30 to 11:30 a.m. 3722 Norrisville Road Whiteford Library\, 2 to 3 p.m. 2407 Whiteford Road
UID:e.2776.15745
SEQUENCE:3
DTSTAMP:20260421T131428Z
URL:https://business.harfordchamber.org/events/details/wildlife-adventures-colors-of-the-wild-08-06-2025-15745
END:VEVENT

END:VCALENDAR
