BEGIN:VCALENDAR
VERSION:2.0
PRODID:-//ChamberMaster//Event Calendar 2.0//EN
METHOD:PUBLISH
X-PUBLISHED-TTL:P3D
REFRESH-INTERVAL:P3D
CALSCALE:GREGORIAN
BEGIN:VEVENT
DTSTART:20250807T180000Z
DTEND:20250807T190000Z
X-MICROSOFT-CDO-ALLDAYEVENT:FALSE
SUMMARY:Wildlife Adventures: Colors of the Wild
DESCRIPTION:As part of Summer Reading 2025\, Harford County Public Library hosts Wildlife Adventures: Colors of the Wild on August 7 from 2 to 3 p.m. at the Edgewood Library\, 629 Edgewood Road. Colors of the Wild is a vibrant exploration of how animals use color to survive\, communicate and create. Through gentle live animal encounters\, kids will discover nature's artistry while learning how they can help wildlife. Young artists are invited to bring their own wildlife art to share to celebrate the beauty of the natural world. Advanced registration (opens July 24) is required at https://programs.hcplonline.org/event/13305798.
X-ALT-DESC;FMTTYPE=text/html:<span style="font-family:arial\,sans-serif"><span style="font-size:12.0pt">As part of Summer Reading 2025\, Harford County Public Library hosts <span style="color:black">Wildlife Adventures: Colors of the Wild on August 7 from 2 to 3 p.m. at the Edgewood Library\, 629 Edgewood Road. Colors of the Wild is a vibrant exploration of how animals use color to survive\, communicate and create. Through gentle live animal encounters\, kids will discover nature&rsquo\;s artistry while learning how they can help wildlife. Young artists are invited to bring their own wildlife art to share to celebrate the beauty of the natural world.&nbsp\;</span></span></span><span style="color:black"><span style="font-family:arial\,sans-serif"><span style="font-size:12.0pt">Advanced registration (opens July 24) is required at </span></span></span><a href="https://programs.hcplonline.org/event/13305798"><span style="font-family:arial\,sans-serif"><span style="font-size:12.0pt">https://programs.hcplonline.org/event/13305798</span></span></a><span style="color:black"><span style="font-family:arial\,sans-serif"><span style="font-size:12.0pt">.</span></span></span><br />\n&nbsp\;<br />\n<br />\n<br />\n&nbsp\;
LOCATION:Edgewood Library\, 629 Edgewood Road\, Edgewood
UID:e.2776.15746
SEQUENCE:3
DTSTAMP:20260421T131434Z
URL:https://business.harfordchamber.org/events/details/wildlife-adventures-colors-of-the-wild-08-07-2025-15746
END:VEVENT

END:VCALENDAR
