BEGIN:VCALENDAR
VERSION:2.0
PRODID:-//ChamberMaster//Event Calendar 2.0//EN
METHOD:PUBLISH
X-PUBLISHED-TTL:P3D
REFRESH-INTERVAL:P3D
CALSCALE:GREGORIAN
BEGIN:VEVENT
DTSTART:20250805T180000Z
DTEND:20250805T190000Z
X-MICROSOFT-CDO-ALLDAYEVENT:FALSE
SUMMARY:Wildlife Adventures: Colors of the Wild
DESCRIPTION:As part of Summer Reading 2025\, Harford County Public Library hosts Wildlife Adventures: Colors of the Wild on August 5 from 2 to 3 p.m. at the Fallston Library\, 1461 Fallston Road. Colors of the Wild is a vibrant exploration of how animals use color to survive\, communicate and create. Through gentle live animal encounters\, kids will discover nature's artistry while learning how they can help wildlife. Young artists are invited to bring their own wildlife art to share to celebrate the beauty of the natural world. The event is supported by the Fallston Friends of HCPL. Advanced registration (opens July 22) is required at https://programs.hcplonline.org/event/13332399.
X-ALT-DESC;FMTTYPE=text/html:<span style="font-family:arial\,sans-serif"><span style="font-size:12.0pt">As part of Summer Reading 2025\, Harford County Public Library hosts <span style="color:black">Wildlife Adventures: Colors of the Wild on August 5 from 2 to 3 p.m. at the Fallston Library\, 1461 Fallston Road. Colors of the Wild is a vibrant exploration of how animals use color to survive\, communicate and create. Through gentle live animal encounters\, kids will discover nature&rsquo\;s artistry while learning how they can help wildlife. Young artists are invited to bring their own wildlife art to share to celebrate the beauty of the natural world. The event is supported by the Fallston Friends of HCPL. Advanced registration (opens July 22) is required at <a href="https://programs.hcplonline.org/event/13332399">https://programs.hcplonline.org/event/13332399</a>.</span></span></span><br />\n<br />\n&nbsp\;
LOCATION:Fallston Library\, 1461 Fallston Road\, Fallston
UID:e.2776.15743
SEQUENCE:3
DTSTAMP:20260421T131230Z
URL:https://business.harfordchamber.org/events/details/wildlife-adventures-colors-of-the-wild-15743
END:VEVENT

END:VCALENDAR
