BEGIN:VCALENDAR
VERSION:2.0
PRODID:-//ChamberMaster//Event Calendar 2.0//EN
METHOD:PUBLISH
X-PUBLISHED-TTL:P3D
REFRESH-INTERVAL:P3D
CALSCALE:GREGORIAN
BEGIN:VEVENT
DTSTART:20191004T210000Z
DTEND:20191005T003000Z
X-MICROSOFT-CDO-ALLDAYEVENT:FALSE
SUMMARY:Women of the Turf Exhibit Opening & Equestrian Award Presentation
DESCRIPTION:The Hays-Heighe House at Harford Community College in Bel Air honors women in Maryland and beyond who have excelled in all aspects of equestrian sport on Friday\, October 4\, 2019 from 5-8:30 p.m. Join us for the unveiling of the Women of the Turf exhibit followed by a reception and presentation of the Robert and Anne Heighe Award for Excellence in Equestrian Journalism to photojournalists Cappy Jackson and Lydia Williams. Meet special guest Kathy Kusner\, Olympic medalist and first licensed female jockey in the United States\, who will offer remarks at the award presentation. Tickets are $50 per person and include heavy hors d'oeuvres and beer/wine. Purchase tickets online at tickets.harford.edu or in person at the Chesapeake Center Box Office on campus (443-412-2211). Limited seating\; purchase early. Ticket sales close on October 3\, 2019. A portion of each ticket price is tax-deductible ($15) and proceeds will benefit the Hays-Heighe House. For more info\, visit harford.edu/womenoftheturf\, email haysheighe@harford.edu or call (443) 412-2539.
X-ALT-DESC;FMTTYPE=text/html:The Hays-Heighe House at Harford Community College in Bel Air honors women in Maryland and beyond who have excelled in all aspects of equestrian sport on Friday\, October 4\, 2019 from 5-8:30 p.m. Join us for the unveiling of the Women of the Turf exhibit followed by a reception and presentation of the Robert and Anne Heighe Award for Excellence in Equestrian Journalism to photojournalists Cappy Jackson and Lydia Williams. Meet special guest Kathy Kusner\, Olympic medalist and first licensed female jockey in the United States\, who will offer remarks at the award presentation. Tickets are $50 per person and include heavy hors d&rsquo\;oeuvres and beer/wine. Purchase tickets online at tickets.harford.edu or in person at the Chesapeake Center Box Office on campus (443-412-2211). Limited seating\; purchase early. Ticket sales close on October 3\, 2019. A portion of each ticket price is tax-deductible ($15) and proceeds will benefit the Hays-Heighe House. For more info\, visit harford.edu/womenoftheturf\, email haysheighe@harford.edu or call (443) 412-2539.
LOCATION:The Hays-Heighe House at Harford Community College\, 401 Thomas Run Road\, Bel Air\, MD 21015
UID:e.2776.8506
SEQUENCE:3
DTSTAMP:20260425T001121Z
URL:https://business.harfordchamber.org/events/details/women-of-the-turf-exhibit-opening-equestrian-award-presentation-8506
END:VEVENT

END:VCALENDAR
