BEGIN:VCALENDAR
VERSION:2.0
PRODID:-//ChamberMaster//Event Calendar 2.0//EN
METHOD:PUBLISH
X-PUBLISHED-TTL:P3D
REFRESH-INTERVAL:P3D
CALSCALE:GREGORIAN
BEGIN:VEVENT
DTSTART:20251022T220000Z
DTEND:20251022T230000Z
X-MICROSOFT-CDO-ALLDAYEVENT:FALSE
SUMMARY:Women Who Kill: Hattie Stone of Havre de Grace
DESCRIPTION:Harford County Public Library presents Women Who Kill: Hattie Stone of Havre de Grace October 22 from 6 to 7 p.m. at the Havre de Grace Library\, 120 North Union Avenue. Havre de Grace\, 1929. The Stone Family. Five family members are dead within four years. Join Dr. Amy Rosenkrans\, secretary of the Maryland Women's Heritage Center\, as she discusses Hattie Stone and the murder trial that rocked Havre de Grace. The program is geared for adults and is supported by the Havre de Grace Friends of HCPL. For more information\, visit https://programs.hcplonline.org/event/14133874.
X-ALT-DESC;FMTTYPE=text/html:<span style="font-family:times new roman\,serif"><span style="font-size:14.0pt">Harford County Public Library presents Women Who Kill: Hattie Stone of Havre de Grace October 22 from 6 to 7 p.m. at the Havre de Grace Library\, 120 North Union Avenue. Havre de Grace\, 1929. The Stone Family. Five family members are dead within four years. Join Dr. Amy Rosenkrans\, secretary of the Maryland Women&rsquo\;s Heritage Center\, as she discusses Hattie Stone and the murder trial that rocked Havre de Grace. The program is geared for adults and is supported by the Havre de Grace Friends of HCPL. For more information\, visit </span></span><a href="https://programs.hcplonline.org/event/14133874"><span style="font-family:times new roman\,serif"><span style="font-size:14.0pt">https://programs.hcplonline.org/event/14133874</span></span></a><span style="font-family:times new roman\,serif"><span style="font-size:14.0pt">. </span></span><br />\n&nbsp\;
LOCATION:Havre de Grace Library 120 North Union Avenue Havre de Grace
UID:e.2776.16087
SEQUENCE:3
DTSTAMP:20260423T091900Z
URL:https://business.harfordchamber.org/events/details/women-who-kill-hattie-stone-of-havre-de-grace-16087
END:VEVENT

END:VCALENDAR
