BEGIN:VCALENDAR
VERSION:2.0
PRODID:-//ChamberMaster//Event Calendar 2.0//EN
METHOD:PUBLISH
X-PUBLISHED-TTL:P3D
REFRESH-INTERVAL:P3D
CALSCALE:GREGORIAN
BEGIN:VEVENT
DTSTART:20191128T133000Z
DTEND:20191128T153000Z
X-MICROSOFT-CDO-ALLDAYEVENT:FALSE
SUMMARY:Y Turkey Trot Charity 5K
DESCRIPTION:BE PART OF MARYLAND'S THANKSGIVING MORNING TRADITION!\n\n \n\n\n\nTradition. Family fun. Health. Friendship. Fitness. Giving back. A second helping of pie.\n\nWhatever your reasons\, we'd love to see your smiling face this Thanksgiving morning at one of our seven Turkey Trot race locations!\n\nOpen to individuals of all ages and abilities\, everyone (including your pooch) is invited to walk\, run or leisurely stroll a 3.1-mile course and soak in the feel-good vibes of the day!\n\nSo whether you're trotting solo\, in a workplace or community team or with your family and friends\, register now for the Y Turkey Trot Charity 5K!
X-ALT-DESC;FMTTYPE=text/html:<h4 style="margin-left:0px\; margin-right:0px\; text-align:center">BE PART OF MARYLAND&rsquo\;S THANKSGIVING MORNING TRADITION!</h4>\n\n<div>&nbsp\;</div>\n\n<div>\n<div>\n<p style="text-align:center"><strong>Tradition. Family fun. Health. Friendship. Fitness. Giving back. A second helping of pie.</strong></p>\n\n<p style="text-align:center">Whatever your reasons\, we&rsquo\;d love to see your smiling face this Thanksgiving morning at one of our seven Turkey Trot race locations!</p>\n\n<p style="text-align:center">Open to individuals of all ages and abilities\, everyone (including your pooch) is invited to walk\, run or leisurely stroll a 3.1-mile course and soak in the feel-good vibes of the day!</p>\n\n<p style="text-align:center">So whether you&rsquo\;re trotting solo\, in a workplace or community team or with your family and friends\, register now for the Y Turkey Trot Charity 5K!</p>\n</div>\n</div>\n
LOCATION:50 W. Broadway Street\, Bel Air\, MD 21014
UID:e.2776.8561
SEQUENCE:3
DTSTAMP:20260424T221142Z
URL:https://business.harfordchamber.org/events/details/y-turkey-trot-charity-5k-8561
END:VEVENT

END:VCALENDAR
