BEGIN:VCALENDAR
VERSION:2.0
PRODID:-//ChamberMaster//Event Calendar 2.0//EN
METHOD:PUBLISH
X-PUBLISHED-TTL:P3D
REFRESH-INTERVAL:P3D
CALSCALE:GREGORIAN
BEGIN:VEVENT
DTSTART:20191031T000000Z
DTEND:20191031T010000Z
X-MICROSOFT-CDO-ALLDAYEVENT:FALSE
SUMMARY:Yoga Nidra-Journey Inward With Jordan
DESCRIPTION:Salt Works Spa is thrilled to partner with the talented Jordan Lally-musician\, singer\, song-writer\, mental health advocate and all things meditation. Please join us for this Yoga Nidra session in the Salt Room and experience the restorative benefits of these combined treatments. $35 Pre-payment required Mats are provided
X-ALT-DESC;FMTTYPE=text/html:Salt Works Spa is thrilled to partner with the talented Jordan Lally-musician\, singer\, song-writer\, mental health advocate and all things meditation. Please join us for this Yoga Nidra session in the Salt Room and experience the restorative benefits of these combined treatments. $35 Pre-payment required Mats are provided
LOCATION:Salt Works Spa 201 Gateway drive Suite J Bel Air 21014
UID:e.2776.8554
SEQUENCE:3
DTSTAMP:20260425T000958Z
URL:https://business.harfordchamber.org/events/details/yoga-nidra-journey-inward-with-jordan-8554
END:VEVENT

END:VCALENDAR
