BEGIN:VCALENDAR
VERSION:2.0
PRODID:-//ChamberMaster//Event Calendar 2.0//EN
METHOD:PUBLISH
X-PUBLISHED-TTL:P3D
REFRESH-INTERVAL:P3D
CALSCALE:GREGORIAN
BEGIN:VEVENT
DTSTART;VALUE=DATE:20190817
DTEND;VALUE=DATE:20190819
TRANSP:TRANSPARENT
X-MICROSOFT-CDO-ALLDAYEVENT:TRUE
SUMMARY:You’re invited! 20% off school supplies at our Back to School Block Party
DESCRIPTION:We're excited to invite you to our first annual Staples  Back to School Block Party!\n\n \n\nVisit us the weekend of 08/17     08/18 for an epic 2-day event made for students\, parents and teachers. We'll have shopping\, savings and a whole lot of fun   plus 20% off school supplies during the event.\n\n \n\nTo learn more and print your special event coupon\, visit staples.com/blockparty.\n\n \n\nStart spreading the word to your fellow teachers and parents. It's sure to be a blast!
X-ALT-DESC;FMTTYPE=text/html:<span style="font-family:avenir roman\,sans-serif">We&#39\;re excited to invite you to our first annual Staples&reg\; Back to School Block Party!</span><br />\n&nbsp\;<br />\n<span style="font-family:avenir roman\,sans-serif">Visit us the weekend of 08/17&nbsp\; &ndash\; &nbsp\;08/18 for an epic 2-day event made for students\, parents and teachers. We&rsquo\;ll have <span style="color:#FF0000"><strong>shopping\, savings and a whole lot of fun</strong></span> &mdash\; plus <span style="color:#FF0000"><strong>20% off</strong></span></span><span style="color:#FF0000"><strong><span style="font-family:avenir roman\,sans-serif"> school supplies</span></strong></span><span style="font-family:avenir roman\,sans-serif"> during the event.</span><br />\n&nbsp\;<br />\n<span style="font-family:avenir roman\,sans-serif">To learn more and print your special event coupon\, visit <a href="http://staples.com/blockparty">staples.com/blockparty</a>.</span><br />\n&nbsp\;<br />\n<span style="font-family:avenir roman\,sans-serif">Start spreading the word to your fellow teachers and parents. It&rsquo\;s sure to be a blast!</span>
LOCATION:
UID:e.2776.8496
SEQUENCE:3
DTSTAMP:20260426T032203Z
URL:https://business.harfordchamber.org/events/details/you-re-invited-20-off-school-supplies-at-our-back-to-school-block-party-8496
END:VEVENT

END:VCALENDAR
